BEGIN:VCALENDAR
VERSION:2.0
PRODID:-//wp-events-plugin.com//7.2.3.1//EN
TZID:America/Los_Angeles
X-WR-TIMEZONE:America/Los_Angeles
BEGIN:VEVENT
UID:1284@treglobal.org
DTSTART;TZID=America/Los_Angeles:20151124T173000
DTEND;TZID=America/Los_Angeles:20151124T203000
DTSTAMP:20150728T095032Z
URL:https://treglobal.org/event/oslo-norway-tre-intro-workshop-open-to-gen
 eral-public-3/
SUMMARY:Oslo\, Norway - TRE Intro Workshop (open to general public)
DESCRIPTION:This workshop is open to anyone new to TRE\, or anyone who woul
 d like to do more TRE for their personal benefit.The language for the work
 shops is Norwegian.You can read more about the workshop here\, http://www.
 oppmerksombevegelse.no/metoder/trauma-release-exercises/
CATEGORIES:Intro Workshops / Recurring Classes / Online Events
LOCATION:Majorstuahuset\, 6. etasje\, Kirkeveien 64 A\, Oslo\, Oslo\, 0377\
 , Oslo\, Norway
GEO:59.9290539;10.715598
X-APPLE-STRUCTURED-LOCATION;VALUE=URI;X-ADDRESS=Kirkeveien 64 A\, Oslo\, Os
 lo\, 0377\, Oslo\, Norway;X-APPLE-RADIUS=100;X-TITLE=Majorstuahuset\, 6. e
 tasje:geo:59.9290539,10.715598
END:VEVENT
BEGIN:VTIMEZONE
TZID:America/Los_Angeles
X-LIC-LOCATION:America/Los_Angeles
BEGIN:STANDARD
DTSTART:20151101T010000
TZOFFSETFROM:-0700
TZOFFSETTO:-0800
TZNAME:PST
END:STANDARD
END:VTIMEZONE
END:VCALENDAR