BEGIN:VCALENDAR
VERSION:2.0
PRODID:-//wp-events-plugin.com//7.2.3.1//EN
TZID:America/Los_Angeles
X-WR-TIMEZONE:America/Los_Angeles
BEGIN:VEVENT
UID:1283@treglobal.org
DTSTART;TZID=America/Los_Angeles:20151006T173000
DTEND;TZID=America/Los_Angeles:20151006T203000
DTSTAMP:20150728T080358Z
URL:https://treglobal.org/event/oslo-norway-tre-intro-workshop-open-to-gen
 eral-public-2/
SUMMARY:Oslo\, Norway - TRE Intro Workshop (open to general public)
DESCRIPTION:This workshop is open to anyone new to TRE\, or anyone who woul
 d like to do more TRE for their personal benefit. The language for the wo
 rkshops is Norwegian.You can read more about the workshop here\, http://w
 ww.oppmerksombevegelse.no/metoder/trauma-release-exercises/
CATEGORIES:Certification Trainings
LOCATION:Majorstuahuset\, 6. etasje\, Kirkeveien 64 A\, Oslo\, Oslo\, 0377\
 , Oslo\, Norway
GEO:59.9290539;10.715598
X-APPLE-STRUCTURED-LOCATION;VALUE=URI;X-ADDRESS=Kirkeveien 64 A\, Oslo\, Os
 lo\, 0377\, Oslo\, Norway;X-APPLE-RADIUS=100;X-TITLE=Majorstuahuset\, 6. e
 tasje:geo:59.9290539,10.715598
END:VEVENT
BEGIN:VTIMEZONE
TZID:America/Los_Angeles
X-LIC-LOCATION:America/Los_Angeles
BEGIN:DAYLIGHT
DTSTART:20150308T030000
TZOFFSETFROM:-0800
TZOFFSETTO:-0700
TZNAME:PDT
END:DAYLIGHT
END:VTIMEZONE
END:VCALENDAR