BEGIN:VCALENDAR
VERSION:2.0
PRODID:-//wp-events-plugin.com//7.2.3.1//EN
TZID:America/Los_Angeles
X-WR-TIMEZONE:America/Los_Angeles
BEGIN:VEVENT
UID:1285@treglobal.org
DTSTART;TZID=America/Los_Angeles;VALUE=DATE:20151009
DTEND;TZID=America/Los_Angeles;VALUE=DATE:20151012
DTSTAMP:20150728T100127Z
URL:https://treglobal.org/event/oslo-norway-tre-certification-training-mod
 ule-1-open-to-general-public/
SUMMARY:Oslo\, Norway - TRE Certification Training - Module 1. Open to gene
 ral public.
DESCRIPTION:This 3 day workshop is open to anyone\, with or without a thera
 peutic background and is required to participate in module 2\, to certify
  as a TRE provider. The workshop will be given in Norwegian.You can read 
 more about this module 1 workshop here. We are glad to invite you to this
  workshop centered around self-healing and self-development with TRE. The 
 workshop will be very practical and suited for those who want an in depth 
 experience with TRE: To continue with certification towards a TRE™ Prov
 ider\, you will need to attend the Module II. Module 2 is only open to tho
 se with a relevant professional background\, therapist\, body worker or si
 milar. For certification requirements\, please read more here.GoalTo deep
 en your personal process and to help you experiencing emotional en bodily 
 release trough TRE and neurogenic tremors. Each morning and afternoon sess
 ion you will be supported through the exercises and tremors. We will also 
 explore the theory behind the model.You can read more about this module 1 
 workshop here. Module 1 will include:Introduction to TREIntroduction and
  deepening of personal tremoring experienceAnatomy\, neurology and physio
 logy of stress and trauma as it relates to TREUnderstanding the tremor res
 ponseIntroduction to the Poly-vagal theoryDefense reactions as they relate
  to TREContainment and grounding strategiesIntroduction to basic skills of
  working with individuals and groupsYou can read more about this module 1 
 workshop here. 
CATEGORIES:Certification Trainings
LOCATION:Majorstuahuset\, 6. etasje.\, Kirkeveien 64 A\, Oslo\, Oslo\, 0377
 \, Oslo\, Norway
GEO:59.9290539;10.715598
X-APPLE-STRUCTURED-LOCATION;VALUE=URI;X-ADDRESS=Kirkeveien 64 A\, Oslo\, Os
 lo\, 0377\, Oslo\, Norway;X-APPLE-RADIUS=100;X-TITLE=Majorstuahuset\, 6. e
 tasje.:geo:59.9290539,10.715598
END:VEVENT
BEGIN:VTIMEZONE
TZID:America/Los_Angeles
X-LIC-LOCATION:America/Los_Angeles
BEGIN:DAYLIGHT
DTSTART:20150308T030000
TZOFFSETFROM:-0800
TZOFFSETTO:-0700
TZNAME:PDT
END:DAYLIGHT
END:VTIMEZONE
END:VCALENDAR