BEGIN:VCALENDAR
VERSION:2.0
PRODID:-//wp-events-plugin.com//7.2.3.1//EN
TZID:America/Los_Angeles
X-WR-TIMEZONE:America/Los_Angeles
BEGIN:VEVENT
UID:5825@treglobal.org
DTSTART;TZID=America/New_York:20230406T140000
DTEND;TZID=America/New_York:20230406T153000
DTSTAMP:20230316T151001Z
URL:https://treglobal.org/event/online-tre-intro-workshop-with-catherine-a
 twood-cnc-ryt-th-april-6-2pm-edt-30/
SUMMARY:ONLINE - TRE™ Intro workshop with Catherine Atwood CNC RYT - Th A
 pril 6\, 2pm EDT $30
DESCRIPTION:This introductory workshop will allow you to experience the tre
 moring response in the safe environment of your home and give you a founda
 tion for understanding this natural neuro-physiological response.\n\nLearn
  about the history and origin of TRE™ and how it helps to release stress
 \, tension and trauma patterns. Most people describe the tremoring experie
 nce as pleasant and report many improvements in their physical and emotion
 al state.\n\nClasses are limited to 10 participants\n\nOnline TRE™ Intro
  - Thursday April 6\, 2023\, 2-3:30pm EST\n\nPre-registration required her
 e\n\n&nbsp\;
CATEGORIES:Intro Workshops / Recurring Classes / Online Events
LOCATION:https://www.nourishingwellnessnow.com/product-page/workshops
END:VEVENT
BEGIN:VTIMEZONE
TZID:America/New_York
X-LIC-LOCATION:America/New_York
BEGIN:DAYLIGHT
DTSTART:20230312T030000
TZOFFSETFROM:-0500
TZOFFSETTO:-0400
TZNAME:EDT
END:DAYLIGHT
END:VTIMEZONE
END:VCALENDAR