BEGIN:VCALENDAR
VERSION:2.0
PRODID:-//wp-events-plugin.com//7.2.3.1//EN
TZID:America/Los_Angeles
X-WR-TIMEZONE:America/Los_Angeles
BEGIN:VEVENT
UID:6057@treglobal.org
DTSTART;TZID=Europe/Stockholm:20240617T183000
DTEND;TZID=Europe/Stockholm:20240617T200000
DTSTAMP:20240520T094050Z
URL:https://treglobal.org/event/online-tre-group-session-small-group-engli
 sh-time-zone-cest-europe/
SUMMARY:Online TRE™ Group session (small group) English - Time zone CEST 
 (Europe)
DESCRIPTION:Welcome to this Online TRE™ class\, a time for yourself to de
 epen your own TRE™ practise in a safe space. From wherever you are you c
 an join at the comfort of your own home. A lovely way to be in the group s
 pace shaking together.\n\nDate: June 17th\nTime: 6:30 pm – 8:00 pm (CEST
 /UTC+2)\nCost: € 25\n\nPre-requisite\nAn established TRE™ practice wit
 h capacity to self-regulate is preferred\, however not required. If you ha
 ven’t yet tried out TRE™\, it's recommended that you a few times follo
 w the official TRE™ video\n\nTo register\, please register here \n(righ
 thand side registration form)\n\nBooking is possible until June 12th\, or 
 when maximum participant number is reached.\n\nThis workshops is held by I
 nternational TRE™ Certification Trainer\, Deva Laya Guleng
CATEGORIES:Intro Workshops / Recurring Classes / Online Events
LOCATION:http://www.tre-online.com/store
END:VEVENT
BEGIN:VTIMEZONE
TZID:Europe/Stockholm
X-LIC-LOCATION:Europe/Stockholm
BEGIN:DAYLIGHT
DTSTART:20240331T030000
TZOFFSETFROM:+0100
TZOFFSETTO:+0200
TZNAME:CEST
END:DAYLIGHT
END:VTIMEZONE
END:VCALENDAR