BEGIN:VCALENDAR
VERSION:2.0
PRODID:-//wp-events-plugin.com//7.2.3.1//EN
TZID:America/Los_Angeles
X-WR-TIMEZONE:America/Los_Angeles
BEGIN:VEVENT
UID:6031@treglobal.org
DTSTART;TZID=America/Chicago:20240506T190000
DTEND;TZID=America/Chicago:20240506T193000
DTSTAMP:20240401T013637Z
URL:https://treglobal.org/event/online-quick-start-tre/
SUMMARY:Online Quick Start TRE
DESCRIPTION:Join us for an online TRE session from the bridge through to in
 tegration. Pay what you choose. Register 12 hours before the session in or
 der to receive the link.\n\nWww.belovenavigation.com
ATTACH;FMTTYPE=image/jpeg:https://treglobal.org/wp-content/uploads/2024/03
 /TRE-IMAGE-1-3.png
CATEGORIES:Intro Workshops / Recurring Classes / Online Events
LOCATION:http://www.belovenavigation.com
END:VEVENT
BEGIN:VTIMEZONE
TZID:America/Chicago
X-LIC-LOCATION:America/Chicago
BEGIN:DAYLIGHT
DTSTART:20240310T030000
TZOFFSETFROM:-0600
TZOFFSETTO:-0500
TZNAME:CDT
END:DAYLIGHT
END:VTIMEZONE
END:VCALENDAR