BEGIN:VCALENDAR
VERSION:2.0
PRODID:-//wp-events-plugin.com//7.2.3.1//EN
TZID:America/Los_Angeles
X-WR-TIMEZONE:America/Los_Angeles
BEGIN:VEVENT
UID:6030@treglobal.org
DTSTART;TZID=America/Chicago:20240422T190000
DTEND;TZID=America/Chicago:20240422T193000
DTSTAMP:20240401T013309Z
URL:https://treglobal.org/event/online-quick-start-tre-for-experienced-sha
 kers/
SUMMARY:Online Quick Start TRE for Experienced Shakers
DESCRIPTION:Join us for a short community TRE\, pay what you choose\, begin
 s at the bridge and goes through to integration.\n\nRegister at www.belove
 navigation.com\n\n&nbsp\;
ATTACH;FMTTYPE=image/jpeg:https://treglobal.org/wp-content/uploads/2024/03
 /TRE-IMAGE-1-2.png
CATEGORIES:Intro Workshops / Recurring Classes / Online Events
LOCATION:http://WWW.BELOVENAVIGATION.COM
END:VEVENT
BEGIN:VTIMEZONE
TZID:America/Chicago
X-LIC-LOCATION:America/Chicago
BEGIN:DAYLIGHT
DTSTART:20240310T030000
TZOFFSETFROM:-0600
TZOFFSETTO:-0500
TZNAME:CDT
END:DAYLIGHT
END:VTIMEZONE
END:VCALENDAR