BEGIN:VCALENDAR
VERSION:2.0
PRODID:-//wp-events-plugin.com//7.2.3.1//EN
TZID:America/Los_Angeles
X-WR-TIMEZONE:America/Los_Angeles
BEGIN:VEVENT
UID:5951@treglobal.org
DTSTART;TZID=Europe/Bucharest:20231202T100000
DTEND;TZID=Europe/Bucharest:20231203T180000
DTSTAMP:20231112T163133Z
URL:https://treglobal.org/event/online-module-2-english-2-3-december-2023-
 fiona-soma/
SUMMARY:Global Certification Training - Online/in Person -  Module 1\,2\, 3
  Series - English - 2/3 or 9/10 December 2023 - Fiona Soma &amp\; Teodora 
 Buzoianu
DESCRIPTION:&nbsp\;\n\n\n\nModule 2 - Teaching Individuals Online 2/3 Decem
 ber 2023 - ONLINE Zoom - 10am – 6pm CET\n\n\nOR\n\nBucharest\, Romania 9
 /10 December 2023 in person at Elephant Yogi Studio\, Bucharest - 10am 
 – 6pm RO\n\n&nbsp\;\n\nAt Module 2 you will \n\n 	lead and show indivi
 duals through the TRE™ Stretches as designed by Dr David Berceli\n 	prac
 tice co-creating a safe container to hold space for the individual whilst 
 they access their tremor mechanism\n 	direct the individual towards safe c
 ontainment and presence during the tremor session\n 	guide the individual 
 to collaborate in the use of self-regulation tools eg self-interventions\n
 \n\nDuring Module 2 you will learn\n\n 	how to safely teach the TRE™ Str
 etches as designed by Dr David Berceli\n 	the safety skills required to su
 ccessfully lead and hold space for an individual through a session\n 	furt
 her exploration of Ventral Vagal vs Dorsal Vagal states\n 	about fascia an
 d its relationship to the tremor mechanism\n 	how to follow the body over 
 a period of weeks/months\n 	how to manage Fight/Flight/Freeze/Dissociation
 /Appeasement during a session\n 	to explore your presence and role being a
  TRE™ Provider/Trainee\n 	basic touch interventions to support self-regu
 lation of the tremor mechanism\n\n\n\n 	about your visceral voice and tapp
 ing into your intuition\n\n\n&nbsp\;\n\n\n\nFor further details please go 
 to https://treforlife.com/pages/tre-global-certification-training-online-a
 nd-romania-2023-2024-fbc4fbdf-d6f1-4517-81b1-6ec91277de84\n\n&nbsp\;\n\n&n
 bsp\;\n\n
CATEGORIES:Certification Trainings,Online TRE® Certification Trainings
LOCATION:http://zoom.com
END:VEVENT
BEGIN:VTIMEZONE
TZID:Europe/Bucharest
X-LIC-LOCATION:Europe/Bucharest
BEGIN:STANDARD
DTSTART:20231029T030000
TZOFFSETFROM:+0300
TZOFFSETTO:+0200
TZNAME:EET
END:STANDARD
END:VTIMEZONE
END:VCALENDAR