BEGIN:VCALENDAR
VERSION:2.0
PRODID:-//wp-events-plugin.com//7.2.3.1//EN
TZID:America/Los_Angeles
X-WR-TIMEZONE:America/Los_Angeles
BEGIN:VEVENT
UID:6126@treglobal.org
DTSTART;TZID=Europe/London:20241215T140000
DTEND;TZID=Europe/London:20241215T163000
DTSTAMP:20241202T172701Z
URL:https://treglobal.org/event/online-group-workshop-%f0%9f%8e%84christma
 s-without-chaos%f0%9f%8e%84-15-december-1400-1630-london-with-certified-tr
 e-provider-carolanne-hall-depeyre/
SUMMARY:ONLINE GROUP WORKSHOP: ????Christmas Without Chaos!???? - 15 Decemb
 er @ 14:00-16:30 (London) - with Certified TRE™ Provider\, Carolanne Hal
 l Depeyre
DESCRIPTION:Online Group Workshop\n ????Christmas Without Chaos!???? \n(usi
 ng natural techniques TRE™ &amp\; Breathwork)\nDec 15 @ 15:00-17:30 (CET
 ) / 09:00-11:30 (EDT)\n€50 per participant\nhttp://free-your-soul.co.uk/
 booking/\nSpaces are limited to ensure a personalised experience\n~~~~~~~~
 ~~~~~~~~~~~~~~~~~~~~~~~~~~~~~~~~~~~~~~~~~~~~~~~~~~~~~~~~~~~~~~~~~~~~~~~~~~
 ~~~~~~~~~~~~~~~~~~~~~~~~~~\n\nAs the festive season approaches\, we often 
 find ourselves swept up in a whirlwind of joy\, togetherness\, and… chao
 s. Christmas is a time for celebration\, but it can also bring overwhelm\
 , overstimulation\, and overindulgence.\n\nI know this all too well. Five 
 years ago\, in the days after Christmas\, I hit a wall. The stress of sing
 le parenting\, endless to-do lists whilst running a business\, and emotion
 al strain following a loss\, left me completely burnt out\, and later diag
 nosed with chronic fatigue syndrome. It was my wake-up call—and\, oddly 
 enough\, a Christmas present from life.\n\nThat long journey to recovery w
 as a pivotal point in my life that taught me invaluable lessons.\n\nI was 
 introduced to TRE™. It helped me not only recover but evolve from burnou
 t and chronic illness\, so much that I decided to train in this to bring i
 t to others. I subsequently trained in Breathwork\, adding another techniq
 ue to my toolbox that is free\, natural\, and already innate in the human 
 body. These tools not only help to regulate you in moments of stress\, or 
 the busy seasons\, but your regulated nervous system will radiate out to t
 hose around you.\n\nI also learned that our nervous system is deeply impa
 cted by those around us. Whether it's the energy of a crowded room\, a lo
 ved one’s stress\, or the busyness of the season\, your system picks up 
 on it all.\n\nBuilding awareness of your own nervous system and learning
  tools to ground yourself in overstimulating moments can be life-changing.
 \n\nNow\, I want to share these tools with you in a 2.5-hour online group 
 workshop.\n\nWHAT YOU'LL DISCOVER IN THIS WORKSHOP:\n\n✨ How to recogni
 se when your nervous system is being impacted by others\n✨ Techniques l
 ike TRE™ and Breathwork to calm and ground yourself\n✨ Ways to create
  space for joy and connection without burning out\n✨ Practical tools fo
 r staying present and in control—even in the holiday hustle\n\nMORE ABOU
 T THE CERTIFIED TRE™ PROVIDER:\n\nI am Carolanne Hall Depeyre\, a Certif
 ied TRE™ Provider and Breathwork Coach from Scotland. I trained with Fre
 edom Within Wellness in Thailand\, with a heavy focus on grounding and reg
 ulating the nervous system. I now reside in Seville\, Spain with my family
 .\n\nI currently teach online\, both in group and individual sessions\, pr
 ovide in-person session where possible\, and host TRE™ workshops in retr
 eat format. My teachings bring a combination of education on the revolutio
 nary TRE™ process\, mindful self-compassion awareness\, and a strong foc
 us on breathing and grounding techniques to help you connect to and regula
 te your nervous system.\n\nYou can find out more about me and my journey i
 n life here: http://free-your-soul.co.uk/about/\n\nFor more information an
 d booking\, please go to: http://free-your-soul.co.uk/booking/\n\nIf you p
 refer a short call to meet me before making your decision\, please book a 
 free 15-minute Discovery Call here: http://free-your-soul.co.uk/booking/
ATTACH;FMTTYPE=image/jpeg:https://treglobal.org/wp-content/uploads/2024/12
 /Christmas-Without-Choas.png
CATEGORIES:Intro Workshops / Recurring Classes / Online Events
LOCATION:https://Freeyoursoul.as.me/?appointmentType=71519662
END:VEVENT
BEGIN:VTIMEZONE
TZID:Europe/London
X-LIC-LOCATION:Europe/London
BEGIN:STANDARD
DTSTART:20241027T010000
TZOFFSETFROM:+0100
TZOFFSETTO:+0000
TZNAME:GMT
END:STANDARD
END:VTIMEZONE
END:VCALENDAR