BEGIN:VCALENDAR
VERSION:2.0
PRODID:-//wp-events-plugin.com//7.2.3.1//EN
TZID:America/Los_Angeles
X-WR-TIMEZONE:America/Los_Angeles
BEGIN:VEVENT
UID:5809@treglobal.org
DTSTART;TZID=America/Los_Angeles:20230625T130000
DTEND;TZID=America/Los_Angeles:20230625T150000
DTSTAMP:20230306T232159Z
URL:https://treglobal.org/event/online-and-in-person-tre-introductory-work
 shop-by-trainer-maria-alfaro-2/
SUMMARY:Online and In Person TRE™ Introductory Workshop by trainer Maria 
 Alfaro
DESCRIPTION:This ONLINE and IN-PERSON introductory workshop not only allow
 s you to experience the tremoring response in a safe environment\, but als
 o gives you a foundation for understanding this natural neuro-physiologica
 l response. Learn about the history and origin of TRE and how it helps to 
 release stress\, tension and trauma patterns.\n\nMost people describe the 
 tremoring experience as pleasant and report many improvements in their phy
 sical and emotional state.\n\nOnline participants you will receive the zoo
 m link after completing registration and payment.\nDate and Time:\nSunday\
 , June 25\, 2023 – 1:00pm – 3:00pm PST\nWhere:\nONLINE - Sponsored by 
 Yoga Center Santa Cruz &amp\; hosted by Maria Alfaro\nIN PERSON- at the Ve
 ts Hall - 846 Front St. Santa Cruz\, CA 95060 (upstairs)\n\nCost:\n\n$55\n
 \nFacilitator:\n\nMaria Alfaro\, Senior TRE™ and Neurogenic Yoga™ Cert
 ification Trainer. Since 2004 Maria taught TRE to thousands of people in t
 he US\, Europe\, Canada\, Asia and the Middle East\, she assisted Dr.Berce
 li in numerous trainings in the US\,  South Africa\, Brazil and Japan and
  she lead over hundred Certification Trainings worldwide. She is also an E
 -RYT and one of two co-creators of Neurogenic Yoga\, a sister method of TR
 E.\nHer websites are www.TREcalifornia.com and www.NeurogenicYoga.com\n
 \nQuestions:  maria@TREcalifornia.com\n\nRegistration &amp\; Payment:\n\n
 Click Here\n\n&nbsp\;
ATTACH;FMTTYPE=image/jpeg:https://treglobal.org/wp-content/uploads/2023/03
 /Maria-400x400-1.jpg
CATEGORIES:Intro Workshops / Recurring Classes / Online Events
LOCATION:Veteran Memorial Building\, 846 Front St. (upstairs)\, Santa Cruz\
 , CA\, 95060\, United States
X-APPLE-STRUCTURED-LOCATION;VALUE=URI;X-ADDRESS=846 Front St. (upstairs)\, 
 Santa Cruz\, CA\, 95060\, United States;X-APPLE-RADIUS=100;X-TITLE=Veteran
  Memorial Building:geo:0,0
END:VEVENT
BEGIN:VTIMEZONE
TZID:America/Los_Angeles
X-LIC-LOCATION:America/Los_Angeles
BEGIN:DAYLIGHT
DTSTART:20230312T030000
TZOFFSETFROM:-0800
TZOFFSETTO:-0700
TZNAME:PDT
END:DAYLIGHT
END:VTIMEZONE
END:VCALENDAR