BEGIN:VCALENDAR
VERSION:2.0
PRODID:-//wp-events-plugin.com//7.2.3.1//EN
TZID:America/Los_Angeles
X-WR-TIMEZONE:America/Los_Angeles
BEGIN:VEVENT
UID:1312@treglobal.org
DTSTART;TZID=America/Los_Angeles:20150903T184500
DTEND;TZID=America/Los_Angeles:20150903T200000
DTSTAMP:20150901T234048Z
URL:https://treglobal.org/event/ongoing-weekly-group-drop-in-class/
SUMMARY:Ongoing Weekly Group Drop-In Class
DESCRIPTION:
CATEGORIES:Intro Workshops / Recurring Classes / Online Events
LOCATION:The Studio\, 332 Camino Del Monte Sol\, Santa Fe\, NM\, 87508\, Un
 ited States
GEO:35.679461;-105.92538000000002
X-APPLE-STRUCTURED-LOCATION;VALUE=URI;X-ADDRESS=332 Camino Del Monte Sol\, 
 Santa Fe\, NM\, 87508\, United States;X-APPLE-RADIUS=100;X-TITLE=The Studi
 o:geo:35.679461,-105.92538000000002
END:VEVENT
BEGIN:VTIMEZONE
TZID:America/Los_Angeles
X-LIC-LOCATION:America/Los_Angeles
BEGIN:DAYLIGHT
DTSTART:20150308T030000
TZOFFSETFROM:-0800
TZOFFSETTO:-0700
TZNAME:PDT
END:DAYLIGHT
END:VTIMEZONE
END:VCALENDAR