BEGIN:VCALENDAR
VERSION:2.0
PRODID:-//wp-events-plugin.com//7.2.3.1//EN
TZID:America/Los_Angeles
X-WR-TIMEZONE:America/Los_Angeles
BEGIN:VEVENT
UID:1653@treglobal.org
DTSTART;TZID=America/Los_Angeles:20160522T180000
DTEND;TZID=America/Los_Angeles:20160522T193000
DTSTAMP:20160518T040032Z
URL:https://treglobal.org/event/oahu-hawaii-tre-introductory-2-part-series
 /
SUMMARY:Oahu\, Hawaii - TRE Introductory 2-part Series
DESCRIPTION:TWO-PART SERIES: Class is 2-consecutive Sundays May 22nd &amp\;
  May 29thThis TRE™ series class is designed to help individuals move b
 eyond the basic biology of stress and trauma\, and into an deeper underst
 anding of how contracted states impact you physically\, psychologically 
 and emotionally through unconscious\, automatic signals passed between the
  body and the brain. To provide a deeper understanding of the TRE™ proce
 ss\, participants are encouraged to do the exercises on their own\, and re
 turn the following week with questions or to share their experiences in a 
 supportive environment. Participants will receive detailed description of 
 the TRE™ sequence to practice on their own.The exercises work for all bo
 dy types and are easily adaptable for any fitness level or mobility challe
 nge. Once you’ve learned TRE™\, you can practice it independently at y
 our convenience. Empower your body to heal itself\, and open up to great
 er sense of joy and wholeness.As a self-care practice TRE becomes invaluab
 le and empowers individuals to heal their own suffering and unfold into a 
 greater sense of joy and wellbeing.People in more than 100 countries use T
 RE™ and experience documented benefits including:Release of chronic tens
 ion and emotional or physical traumaIncreased energy and staminaRelief fro
 m body aches\, including back pain\, headaches\, and TMJImproved sleepBett
 er moodGreater mobilityLess anxietyMore focused and connectedDeeper connec
 tionREGISTRATION IS REQUIRED | CLASS SIZE LIMITEDREGISTER HERE: http://tr
 ealive.com/tre-2-pt-intro-series/For more information visit http://www.tr
 ealive.com
CATEGORIES:Intro Workshops / Recurring Classes / Online Events
LOCATION:Mindful Matters Wellness Center-Kailua Medical Arts Bldg\, 407 Ulu
 niu St. Suite 412\, Kailua\, Hawaii (HI)\, 96734\, United States
GEO:21.3963517;-157.74333760000002
X-APPLE-STRUCTURED-LOCATION;VALUE=URI;X-ADDRESS=407 Uluniu St. Suite 412\, 
 Kailua\, Hawaii (HI)\, 96734\, United States;X-APPLE-RADIUS=100;X-TITLE=Mi
 ndful Matters Wellness Center-Kailua Medical Arts Bldg:geo:21.3963517,-157
 .74333760000002
END:VEVENT
BEGIN:VTIMEZONE
TZID:America/Los_Angeles
X-LIC-LOCATION:America/Los_Angeles
BEGIN:DAYLIGHT
DTSTART:20160313T030000
TZOFFSETFROM:-0800
TZOFFSETTO:-0700
TZNAME:PDT
END:DAYLIGHT
END:VTIMEZONE
END:VCALENDAR