BEGIN:VCALENDAR
VERSION:2.0
PRODID:-//wp-events-plugin.com//7.2.3.1//EN
TZID:America/Los_Angeles
X-WR-TIMEZONE:America/Los_Angeles
BEGIN:VEVENT
UID:1473@treglobal.org
DTSTART;TZID=America/Los_Angeles:20160206T100000
DTEND;TZID=America/Los_Angeles:20160206T160000
DTSTAMP:20160114T220534Z
URL:https://treglobal.org/event/north-battleford-tre-introduction-workshop
 -open-to-general-public-hosted-by-rogue-wellness/
SUMMARY:North Battleford\, - TRE Introduction Workshop - Open to General Pu
 blic\, hosted by Rogue Wellness
DESCRIPTION:Date and time:Saturday - February 6\, 201610:00 am - 4:00 pmWhe
 re:Nations West Field House3-623 Carlton TrailNorth Battleford\, SKCost:$1
 00To register\, please call (306)937-2417 or (306)446-4410\, http://rogue
 wellness.caFacilitators:  Jacqueline Maloney and Marie Graw  
CATEGORIES:Intro Workshops / Recurring Classes / Online Events
LOCATION:Nations West Field House\, 3-623 Carlton Trail\, North Battleford\
 , SK\, Canada
GEO:52.7601363;-108.26846999999998
X-APPLE-STRUCTURED-LOCATION;VALUE=URI;X-ADDRESS=3-623 Carlton Trail\, North
  Battleford\, SK\, Canada;X-APPLE-RADIUS=100;X-TITLE=Nations West Field Ho
 use:geo:52.7601363,-108.26846999999998
END:VEVENT
BEGIN:VTIMEZONE
TZID:America/Los_Angeles
X-LIC-LOCATION:America/Los_Angeles
BEGIN:STANDARD
DTSTART:20151101T010000
TZOFFSETFROM:-0700
TZOFFSETTO:-0800
TZNAME:PST
END:STANDARD
END:VTIMEZONE
END:VCALENDAR