BEGIN:VCALENDAR
VERSION:2.0
PRODID:-//wp-events-plugin.com//7.2.3.1//EN
TZID:America/Los_Angeles
X-WR-TIMEZONE:America/Los_Angeles
BEGIN:VEVENT
UID:5944@treglobal.org
DTSTART;TZID=Pacific/Auckland:20231126T100000
DTEND;TZID=Pacific/Auckland:20231126T113000
DTSTAMP:20231101T074710Z
URL:https://treglobal.org/event/new-zealand-4-week-in-person-course-somati
 c-stress-tension-release-with-tre-with-christine-wehrmeier-flow-wellbeing-
 christchurch/
SUMMARY:NEW ZEALAND - 3 Week In-Person Course - Somatic Stress &amp\; Traum
 a Release with TRE™ - with Christine Wehrmeier @ Flow Wellbeing\, Christ
 church
DESCRIPTION:“Sometimes we don’t realise the weight of what we have been
  carrying until we feel the weight of its release.”\n___________________
 ___\nNovember 26\, December 3\, 10 | Sunday | 10:00am – 11.30am (New Zea
 land Time)\nWhat to expect:\nOver 3 sessions you will be taught the TRE™
  exercises as developed by Dr David Berceli\, with a strong emphasis on le
 arning to read your own signs of stress and grounding\, so that you can le
 arn to self-regulate your tremors effectively. We start each session with 
 a check in\, discussion and basic theory. The rest is practical.\n&nbsp\;\
 nAbout Your TRE™ Provider:\nHello\, my name is Christine Wehrmeier.\n\n*
  Mind-Body Educator &amp\; Coach\n* Certified TRE™ Provider\n* Integrati
 ve Somatic &amp\; Arts Practitioner\n* B.A. Psychology\n* Dance &amp\; Mov
 ement Therapy (DTAA - Student)\n&nbsp\;\nOriginally from Australia with Ge
 rman and Japanese heritage\, I have lived in the UK\, Germany\, Czechia\, 
 Indonesia\, Iceland and since 2022 I call Christchurch\, New Zealand home.
  I have a Psychology degree from the University of Sydney and I trained in
  various stress and trauma healing techniques after I experienced a burnou
 t and 20 years of chronic back pain that forced me to go beyond what the c
 linical world had to offer\, in order to find effective and lasting help a
 nd healing in my life. TRE™ is a powerful tool for healing and so it’s
  an honour to share it with others.\n&nbsp\;\n\n“Thank you\, I’m so gr
 ateful to have done these TRE™ classes with you\, it’s so deeply relax
 ing — it feels so beautiful in my heart.”\n– ALICIA (USA)\n\n\nBOOK
  YOUR SPOT &amp\; FIND OUT MORE:\nOnly 8 places\nhttps://www.christinewehr
 meier.com/booking/\n*This is not a certification course and is only for yo
 ur personal benefit.
ATTACH;FMTTYPE=image/jpeg:https://treglobal.org/wp-content/uploads/2023/10
 /CHRISTINE-WEHRMEIER-700-×-394px.jpg
CATEGORIES:Intro Workshops / Recurring Classes / Online Events
LOCATION:Flow Wellbeing Centre\, 229 Fitzgerald Avenue\, Christchurch Centr
 al\, Canterbury\, 8011\, New Zealand
X-APPLE-STRUCTURED-LOCATION;VALUE=URI;X-ADDRESS=229 Fitzgerald Avenue\, Chr
 istchurch Central\, Canterbury\, 8011\, New Zealand;X-APPLE-RADIUS=100;X-T
 ITLE=Flow Wellbeing Centre:geo:0,0
END:VEVENT
BEGIN:VTIMEZONE
TZID:Pacific/Auckland
X-LIC-LOCATION:Pacific/Auckland
BEGIN:DAYLIGHT
DTSTART:20230924T030000
TZOFFSETFROM:+1200
TZOFFSETTO:+1300
TZNAME:NZDT
END:DAYLIGHT
END:VTIMEZONE
END:VCALENDAR