BEGIN:VCALENDAR
VERSION:2.0
PRODID:-//wp-events-plugin.com//7.2.3.1//EN
TZID:America/Los_Angeles
X-WR-TIMEZONE:America/Los_Angeles
BEGIN:VEVENT
UID:1478@treglobal.org
DTSTART;TZID=America/Los_Angeles:20160202T101500
DTEND;TZID=America/Los_Angeles:20160202T113000
DTSTAMP:20160116T190649Z
URL:https://treglobal.org/event/nelson-british-columbia-canada-tre-4-week-
 class-series-open-to-general-public-4/
SUMMARY:Nelson\, British Columbia\, Canada  - TRE 4 Week Class Series (open
  to general public)
DESCRIPTION:TRE Course OutlineThis is a 4 Week Course with 2 classes per we
 ek\, running from Feb. 2nd – 26th\, 2016$225 tuition: Includes 1.5 hr P
 rivate Session + 8 classes TRE Class Schedule:Mornings: Tuesdays &amp\; 
 Fridays 10:15-11:30 am or Evenings: Tuesdays &amp\; Fridays 5:00-6:15 
 pmSpace is limited to 12 people per class.For reg &amp\; to connect with J
 udy: 250.352.3319\, somatikatz@gmail.comCome find out more about…* how y
 our body is designed to release tension &amp\; trauma naturally* how we in
 terrupt and repress this mechanism * how we can learn to reactivate it si
 mply &amp\; safelyOnce you learn TRE\, you can use it FOR FREE for the res
 t of your life!Private session is required before classes begin on Feb 2nd
 .
CATEGORIES:Intro Workshops / Recurring Classes / Online Events
LOCATION:Vitality Yoga Studio\, 205 Victoria St.\, Nelson\, British Columbi
 a\, Canada
GEO:49.4899479;-117.29711459999999
X-APPLE-STRUCTURED-LOCATION;VALUE=URI;X-ADDRESS=205 Victoria St.\, Nelson\,
  British Columbia\, Canada;X-APPLE-RADIUS=100;X-TITLE=Vitality Yoga Studio
 :geo:49.4899479,-117.29711459999999
END:VEVENT
BEGIN:VTIMEZONE
TZID:America/Los_Angeles
X-LIC-LOCATION:America/Los_Angeles
BEGIN:STANDARD
DTSTART:20151101T010000
TZOFFSETFROM:-0700
TZOFFSETTO:-0800
TZNAME:PST
END:STANDARD
END:VTIMEZONE
END:VCALENDAR