BEGIN:VCALENDAR
VERSION:2.0
PRODID:-//wp-events-plugin.com//7.2.3.1//EN
TZID:America/Los_Angeles
X-WR-TIMEZONE:America/Los_Angeles
BEGIN:VEVENT
UID:1348@treglobal.org
DTSTART;TZID=America/Los_Angeles:20151005T180000
DTEND;TZID=America/Los_Angeles:20151005T191500
DTSTAMP:20150928T231711Z
URL:https://treglobal.org/event/nelson-british-columbia-canada-tre-4-week-
 class-series-open-to-general-public-2/
SUMMARY:Nelson\, British Columbia\, Canada  - TRE 4 Week Class Series (open
  to general public)
DESCRIPTION:TRE: Tension\, Stress &amp\; Trauma Release Exercises:  4 Week
  Class Series w/ Judy Katz Level ll TRE PractitionerYour body has evolved 
 to release tension\, stress\, shock &amp\; trauma naturally.  Learn to re
 activate this reflex and reset your nervous system to regain health &amp\;
  resiliency.What is TRE good for?• sleep &amp\; relaxation         
                  • PTSD• sports recovery &amp\; resilience  
        • work stress• anxiety and depression               
   • back healthTRE Course: October 5th-29th $200 Tuition: Includes 1.5 
 hr Private Session + 8 classes  Mondays &amp\; Thursdays: Morning or Eveni
 ng Class Available: 10:30-11:45 am or 6:00-7:15 pmWeek 1: Oct.   5th &amp
 \;  8th\,   10:30-11:45 pm or 6:00-7:15 pmWeek 2: Oct. 12th &amp\; 15t
 h\,  10:30-11:45 pm or 6:00-7:15 pmWeek 3: Oct. 19th &amp\; 22nd\, 10:3
 0-11:45 pm or 6:00-7:15 pm Week 4: Oct. 26th &amp\; 29th\, 10:30-11:45 
 pm or 6:00-7:15 pm FOR REGISTRATION OR MORE INFORMATION\, PLEASE CONTAC
 T JUDY:  250.352.3319\, somatikatz@gmail.com
ATTACH;FMTTYPE=image/jpeg:https://treglobal.org/wp-content/uploads/2015/09
 /Resilience-1.jpg
CATEGORIES:Intro Workshops / Recurring Classes / Online Events
LOCATION:The ManiStone Centre\, 507 Baker St. 2nd Floor\, Nelson\, British 
 Columbia\, Canada
GEO:49.492323;-117.29389200000003
X-APPLE-STRUCTURED-LOCATION;VALUE=URI;X-ADDRESS=507 Baker St. 2nd Floor\, N
 elson\, British Columbia\, Canada;X-APPLE-RADIUS=100;X-TITLE=The ManiStone
  Centre:geo:49.492323,-117.29389200000003
END:VEVENT
BEGIN:VTIMEZONE
TZID:America/Los_Angeles
X-LIC-LOCATION:America/Los_Angeles
BEGIN:DAYLIGHT
DTSTART:20150308T030000
TZOFFSETFROM:-0800
TZOFFSETTO:-0700
TZNAME:PDT
END:DAYLIGHT
END:VTIMEZONE
END:VCALENDAR