BEGIN:VCALENDAR
VERSION:2.0
PRODID:-//wp-events-plugin.com//7.2.3.1//EN
TZID:America/Los_Angeles
X-WR-TIMEZONE:America/Los_Angeles
BEGIN:VEVENT
UID:5910@treglobal.org
DTSTART;TZID=Europe/London:20231001T100000
DTEND;TZID=Europe/London:20231001T140000
DTSTAMP:20230817T163800Z
URL:https://treglobal.org/event/moving-within-enhancing-interoception-move
 ment/
SUMMARY:Moving Within - Enhancing Interoception Movement
DESCRIPTION:Moving Within - Enhancing Interoception Through Movement\, enab
 les you to develop your grounding toolkit for you and your clients through
  movement.\n\nBringing in elements of rhythm\, music\, play and connection
 \, this half day workshop enhances interoception and safety through moveme
 nt\, balance and exteroception.\n\nThe workshop consists of practical exer
 cises to shift our nervous system and body awareness through consciously e
 xploring areas such as:\n\n- Planes of movement\n- Balance\n- Use of the s
 enses (exteroception) -\n- Non habitual movement\n- Using edges and props\
 n- Play and ‘errors’\n\nIn addition to smiles and connection with othe
 r TRE Providers &amp\; Trainees\, takeaway practical accessible exercises 
 to incorporate into client work\, your groups &amp\; workshops\, and for y
 our own self care.\n\nSunday 1st October 10am - 2pm\nThe Purple Turtle\, C
 entral Brighton\n\n£70\n\nYou may like to join us on Saturday 31st Septem
 ber for Following The Body &amp\; The Use of Touch and make it a TRE weeke
 nd of learning and connection in community. £25 saving when both workshop
 s are booked together.\n\nThere is also a social (non ticketed) on the eve
 ning of Saturday 31st where we can meet socially over a meal and drinks. T
 his workshop offers 4 hours of CPD. Book the two workshops together and sa
 ve £25. Total cost £165.\n\nPlease note that refunds are not available a
 nd places are limited.
ATTACH;FMTTYPE=image/jpeg:https://treglobal.org/wp-content/uploads/2023/08
 /7-copy.jpg
CATEGORIES:TRE® Continuing Education / Specialty Training
LOCATION:The Purple Turtle\, 1st Floor\, Old Slipper Baths\, Barrack Yard\,
  North Rd\, Brighton\, East Sussex\, BN1 1YA\, United Kingdom
X-APPLE-STRUCTURED-LOCATION;VALUE=URI;X-ADDRESS=1st Floor\, Old Slipper Bat
 hs\, Barrack Yard\, North Rd\, Brighton\, East Sussex\, BN1 1YA\, United K
 ingdom;X-APPLE-RADIUS=100;X-TITLE=The Purple Turtle:geo:0,0
END:VEVENT
BEGIN:VTIMEZONE
TZID:Europe/London
X-LIC-LOCATION:Europe/London
BEGIN:DAYLIGHT
DTSTART:20230326T020000
TZOFFSETFROM:+0000
TZOFFSETTO:+0100
TZNAME:BST
END:DAYLIGHT
END:VTIMEZONE
END:VCALENDAR