BEGIN:VCALENDAR
VERSION:2.0
PRODID:-//wp-events-plugin.com//7.2.3.1//EN
TZID:America/Los_Angeles
X-WR-TIMEZONE:America/Los_Angeles
BEGIN:VEVENT
UID:1497@treglobal.org
DTSTART;TZID=America/Los_Angeles:20160513T090000
DTEND;TZID=America/Los_Angeles:20160515T090000
DTSTAMP:20160215T100453Z
URL:https://treglobal.org/event/module-1-tre-certification-training/
SUMMARY:Burlington\, Vermont - Module 1 TRE™ Certification Training
DESCRIPTION:Module 1Friday\, May 13\, 2016\; 9:00 AM- 4:30 PMSaturday\, May
  14\, 2016\; 9:00 AM- 4:30 PMSunday\, May 15\, 2016\; 9:00 AM- 4:30 PMMo
 dule 2Friday\, July 13\, 2016\; 9:00 AM- 4:30 PMSaturday\, July 14\, 2016
 \; 9:00 AM- 4:30 PMSunday\, July 15\, 2016\; 9:00 AM- 4:30 PM Cost:  E
 arly\, $300 - Regular cost $400 Register at www.jaygleasonvt.com or cont
 act Jay at jay@jaygleasonvt.com or 802-578-0741. 
CATEGORIES:Certification Trainings
LOCATION:Elements of Healing\, 21 Essex Way\, Essex Junction\, Vermont\, 05
 452\, United States
GEO:44.5075489;-73.08133750000002
X-APPLE-STRUCTURED-LOCATION;VALUE=URI;X-ADDRESS=21 Essex Way\, Essex Juncti
 on\, Vermont\, 05452\, United States;X-APPLE-RADIUS=100;X-TITLE=Elements o
 f Healing:geo:44.5075489,-73.08133750000002
END:VEVENT
BEGIN:VTIMEZONE
TZID:America/Los_Angeles
X-LIC-LOCATION:America/Los_Angeles
BEGIN:DAYLIGHT
DTSTART:20160313T030000
TZOFFSETFROM:-0800
TZOFFSETTO:-0700
TZNAME:PDT
END:DAYLIGHT
END:VTIMEZONE
END:VCALENDAR