BEGIN:VCALENDAR
VERSION:2.0
PRODID:-//wp-events-plugin.com//7.2.3.1//EN
TZID:America/Los_Angeles
X-WR-TIMEZONE:America/Los_Angeles
BEGIN:VEVENT
UID:1620@treglobal.org
DTSTART;TZID=America/Los_Angeles:20161001T100000
DTEND;TZID=America/Los_Angeles:20161003T133000
DTSTAMP:20180901T090341Z
URL:https://treglobal.org/event/milano-italia-tre-certification-training-m
 odulo-1-aperto-a-tutti-in-italiano/
SUMMARY:Milano\, Italia - TRE Certification Training - Modulo 1 aperto a tu
 tti - in italiano
DESCRIPTION:https://metodotreitalia.com/\n\nCorso di formazione e certifica
 zione come Operatore TRE\n\nper informazioni su questo corso visita: http
 s://metodotreitalia.com/corso-formazione-operatori-metodo-tre/\n\n\nInfoli
 ne: organizzazione (at) pneimedicalschool.it - Tel: 333 3677483 (Lun-Ven: 
 9-13)\n\nModulo 1: 1-3 Ottobre\, Orario: Sab\, Dom: 10-18\; Lun: 10-13.30\
 n\nModulo 2: 12-14 Novembre\, Orario: Sab\, Dom: 10-18\; Lun: 10-13.30\n\n
 \nIl programma di certificazione italiano segue il modello unificato globa
 le (GCT): Per conseguire la certificazione internazionale sarà necessari
 o frequentare Modulo 1 e Modulo 2\, e sostenere un numero minimo di 12 ses
 sioni di approfondimento\, individuali o di gruppo (eseguibili anche via 
 skype/webcam): 4 sessioni incentrate sulla propria pratica individuale con
  il metodo\, 4 supervisioni di lavoro su singoli e 4 supervisioni di lavor
 o su gruppi. Una ultima sessione di certificazione. Gli incontri di superv
 isione dovranno svolgersi entro 12 mesi dalla frequentazione del Modulo 2.
 \n\n\n\n\nModulo I - 2.5 giorni aperto a tutti!!\n\nCenni di neuroanatom
 ia e di neuropsicofisiologia\nRisposta neuroanatomica nell’emergenza/str
 ess\nL’ileopsoas: muscolo fondamentale nella risposta di attacco-fuga\nA
 pplicazioni della teoria polivagale di Porges\nIl tremore neurogeno nel ma
 mmifero\nConcetti di autoregolazione\nMetodi di induzione e pratica indivi
 duale del tremore neurogeno\n\nModulo II - 2.5 giorni (necessaria la freq
 uenza del Modulo 1)\nApprofondimento degli argomenti trattati nel Modulo I
 \nElementi di neuropsicologia e psicosomatica\nIl sistema nervoso miofasci
 ale\nCorrelati anatomici del trauma\nCorrelati neurofisiologici del tremor
 e neurogeno\nInterventi per la facilitazione della risposta neurogena\nApp
 rofondimento nel contesto del lavoro individuale e di gruppo\n
ATTACH;FMTTYPE=image/jpeg:https://treglobal.org/wp-content/uploads/2016/04
 /GEMS-scuola-metodo-TRE-logo-for-ws.png
CATEGORIES:Certification Trainings
LOCATION:Spazio BioMindful\, Via Filippino Lippi 32 (zona metro Loreto o Pi
 ola)\, Milano\, 20131 \, Italy
GEO:45.4861754;9.222843600000033
X-APPLE-STRUCTURED-LOCATION;VALUE=URI;X-ADDRESS=Via Filippino Lippi 32 (zon
 a metro Loreto o Piola)\, Milano\, 20131 \, Italy;X-APPLE-RADIUS=100;X-TIT
 LE=Spazio BioMindful:geo:45.4861754,9.222843600000033
END:VEVENT
BEGIN:VTIMEZONE
TZID:America/Los_Angeles
X-LIC-LOCATION:America/Los_Angeles
BEGIN:DAYLIGHT
DTSTART:20160313T030000
TZOFFSETFROM:-0800
TZOFFSETTO:-0700
TZNAME:PDT
END:DAYLIGHT
END:VTIMEZONE
END:VCALENDAR