BEGIN:VCALENDAR
VERSION:2.0
PRODID:-//wp-events-plugin.com//7.2.3.1//EN
TZID:America/Los_Angeles
X-WR-TIMEZONE:America/Los_Angeles
BEGIN:VEVENT
UID:6104@treglobal.org
DTSTART;TZID=Europe/Rome:20250905T000000
DTEND;TZID=Europe/Rome:20250907T000000
DTSTAMP:20240911T073304Z
URL:https://treglobal.org/event/metodo-tre-per-lautosufficienza-in-italian
 o-fattoria-dellautosufficienza-italia-2/
SUMMARY:Metodo TRE™ per l'autosufficienza (in italiano) - Fattoria dell'A
 utosufficienza\, Italia
DESCRIPTION:Corso di metodo TRE™ per ridurre stress fisico e mentale.\nIm
 para un metodo rivoluzionario\, che potrai riutilizzare ogni volta che
  vorrai in autonomia\, per rilasciare stress e tensioni\, andando a lib
 erare la tua energia vitale e a calmare la mente. Un weekend presso la 
 Fattoria dell’Autosufficienza per rigenerarti e scoprire una nuova via 
 al benessere di corpo\, mente e spirito.\n\nFormazione Metodo TRE: www.met
 odotreitalia.com
CATEGORIES:Intro Workshops / Recurring Classes / Online Events
LOCATION:Fattoria Dell'Autosufficienza\, Bagno di Romagna\, Bagno di Romagn
 a\, Italy
X-APPLE-STRUCTURED-LOCATION;VALUE=URI;X-ADDRESS=Bagno di Romagna\, Bagno di
  Romagna\, Italy;X-APPLE-RADIUS=100;X-TITLE=Fattoria Dell'Autosufficienza:
 geo:0,0
END:VEVENT
BEGIN:VTIMEZONE
TZID:Europe/Rome
X-LIC-LOCATION:Europe/Rome
BEGIN:DAYLIGHT
DTSTART:20250330T030000
TZOFFSETFROM:+0100
TZOFFSETTO:+0200
TZNAME:CEST
END:DAYLIGHT
END:VTIMEZONE
END:VCALENDAR