BEGIN:VCALENDAR
VERSION:2.0
PRODID:-//wp-events-plugin.com//7.2.3.1//EN
TZID:America/Los_Angeles
X-WR-TIMEZONE:America/Los_Angeles
BEGIN:VEVENT
UID:1594@treglobal.org
DTSTART;TZID=America/Los_Angeles:20160416T133000
DTEND;TZID=America/Los_Angeles:20160416T150000
DTSTAMP:20160331T212026Z
URL:https://treglobal.org/event/marina-del-rey-california-tre-beginning-cl
 ass-open-to-the-public-4/
SUMMARY:Marina del Rey\, California TRE beginning class\, open to the publi
 c
DESCRIPTION:https://tretickets.yapsody.com/event/index/36390/tre-class-at-y
 oga-nest-venice
CATEGORIES:Intro Workshops / Recurring Classes / Online Events
LOCATION:Yoga Nest Venice\, 38 West Washington Blvd\, Marina Del Rey\, 9029
 2\, United States
GEO:33.9794779;-118.4655937
X-APPLE-STRUCTURED-LOCATION;VALUE=URI;X-ADDRESS=38 West Washington Blvd\, M
 arina Del Rey\, 90292\, United States;X-APPLE-RADIUS=100;X-TITLE=Yoga Nest
  Venice:geo:33.9794779,-118.4655937
END:VEVENT
BEGIN:VTIMEZONE
TZID:America/Los_Angeles
X-LIC-LOCATION:America/Los_Angeles
BEGIN:DAYLIGHT
DTSTART:20160313T030000
TZOFFSETFROM:-0800
TZOFFSETTO:-0700
TZNAME:PDT
END:DAYLIGHT
END:VTIMEZONE
END:VCALENDAR