BEGIN:VCALENDAR
VERSION:2.0
PRODID:-//wp-events-plugin.com//7.2.3.1//EN
TZID:America/Los_Angeles
X-WR-TIMEZONE:America/Los_Angeles
BEGIN:VEVENT
UID:1281@treglobal.org
DTSTART;TZID=America/Los_Angeles;VALUE=DATE:20151016
DTEND;TZID=America/Los_Angeles;VALUE=DATE:20151019
DTSTAMP:20150728T012804Z
URL:https://treglobal.org/event/madison-wi-october-16-18-2015-new-tre-glob
 al-certification-training/
SUMMARY:Madison\, WI\, October 16-18\, 2015  New TRE Global Certification T
 raining
DESCRIPTION:Module 1   This workshop is open to the publicFriday\, Octobe
 r 16\, 2015: 9:30AM to 5:00PMSaturday\, October 17\, 2015: 9:30AM to 5:00P
 MSunday\, October 18\, 2015: 9:30AM to 4:00PMModule 2  This workshop is o
 pen to anyone who has taken the Module 1 TrainingFriday\, December 4\, 201
 5:9:30AM to 5:00PMSaturday\, December 5\, 2015: 9:30AM to 5:00PMSunday\, D
 ecember 6\, 2015: 9:30AM to 4:00PMDetails:In this three-day TRE certificat
 ion course\, you will learn a simple\, affordable\, and effective protocol
  and how it is incorporated into a larger sensorimotor integration framewo
 rk. Occupational therapists and other professionals who work with clients 
 with a history of trauma or sensory processing dysfunction are invited to 
 join us. Please wear comfortable clothing and bring your excitement and pa
 ssion for learning and experiencing new treatment approaches. From a sens
 orimotor integration approach\, TRE has now been incorporated into the cli
 nical practice of children and adults with sensory processing dysfunction 
 and trauma-related difficulties. Through this integrative approach\, one i
 s afforded a simple yet effective modality for supporting the most basic b
 ody processes that influence the way we behave\, feel\, and think. As the 
 individual experiences a neurophysiological balance in the body\, he/she i
 s afforded the necessary foundation for developing and enhancing sensory m
 odulation\, self-regulation\, social interaction\, cognitive processing\, 
 and overall occupational performance.To register for this training\, pleas
 e visit:  www.naturalstressrelease.com For more information\, please con
 tact Jacy at:  trepromotions@gmail.com or (970)948-5154 Continuing Educa
 tion Units AOTA: Vital Links is approved by The American Occupational The
 rapy Association (AOTA) as a provider of continuing education. This three-
 day workshop provides 18 contact hours or 1.8 AOTA CEUs.  The assignment 
 of AOTA CEUs does not imply endorsement of specific course content\, produ
 cts\, or clinical procedures by AOTA. Level: Introductory. AOTA Classifica
 tion Code: Client Factors\, Performance Skills\, &amp\; InterventionFacili
 tators:Jacy Sundlie\, TRE Certification Trainer. Jacy has been a TRE Certi
 fication Trainer since 2010 when she helped start the program. She has tau
 ght and worked with thousands of people since then. TRE work experience ha
 s included working with and training groups of people in the certification
  process\, organizational training. and co-authoring and co-creating the M
 odification DVD for TRE. Professional background includes being a Licensed
  Social Worker\, Reiki Master\, Massage Therapist and Transformational Lif
 e Coach. Sheila M. Frick\, OTR/L is an occupational therapist who has ded
 icated her career to the healthcare field as both a clinician and internat
 ional lecturer. For over 35 years\, Sheila has worked with clients and fam
 ilies and taught professionals across the globe through the field of occup
 ational therapy and sensory integration. Sheila has extensive experience t
 reating individuals throughout the lifespan who face difficulties with sen
 sory processing—specifically auditory\, tactile\, and visual in nature. 
 In addition\, Sheila has had the opportunity to work with countless indivi
 duals and families who experience daily functional challenges that relate 
 to Autism Spectrum Disorder\, ADHD\, and anxiety.
CATEGORIES:Certification Trainings
LOCATION:Integrated Development Services\, 559 Zor Shrine Place\, Madison\,
  WI\, 53719\, United States
GEO:43.0557338;-89.51271129999998
X-APPLE-STRUCTURED-LOCATION;VALUE=URI;X-ADDRESS=559 Zor Shrine Place\, Madi
 son\, WI\, 53719\, United States;X-APPLE-RADIUS=100;X-TITLE=Integrated Dev
 elopment Services:geo:43.0557338,-89.51271129999998
END:VEVENT
BEGIN:VTIMEZONE
TZID:America/Los_Angeles
X-LIC-LOCATION:America/Los_Angeles
BEGIN:DAYLIGHT
DTSTART:20150308T030000
TZOFFSETFROM:-0800
TZOFFSETTO:-0700
TZNAME:PDT
END:DAYLIGHT
END:VTIMEZONE
END:VCALENDAR