BEGIN:VCALENDAR
VERSION:2.0
PRODID:-//wp-events-plugin.com//7.2.3.1//EN
TZID:America/Los_Angeles
X-WR-TIMEZONE:America/Los_Angeles
BEGIN:VEVENT
UID:1247@treglobal.org
DTSTART;TZID=America/Los_Angeles:20151016T093000
DTEND;TZID=America/Los_Angeles:20151016T173000
DTSTAMP:20150624T111948Z
URL:https://treglobal.org/event/london-united-kingdom-tre-supervision-day-
 the-fascia-matrix/
SUMMARY: London\, United Kingdom  - TRE™  Supervision Day: The Fascia Mat
 rix
DESCRIPTION:Event detailsTRE Supervision Day: The Fascia MatrixDate: Frida
 y 16 Oct 2015\, 9.30-5.30pm  Tutor: Steve HainesVenue: Diorama\, 201 Dr
 ummond St\, London\, NW1Cost: £ 120.00Registration: HEREFascia is every
 where. It is an incredibly important\, hitherto overlooked\, tissue in the
  body. This TRE supervision day will open you up the world of the living m
 atrix of connective tissue.The living matrix of fascia has been under appr
 eciated for decades. There is an exponential growth in research papers int
 o connective tissues. We can no longer talk of separate muscles\; muscles 
 and fascia form bags and ‘myofascial meridians’ that connect all the s
 tructures of the body into a unified whole. It is staggering how everythin
 g is connected to everything. Tension patterns in fascia are a primary com
 municating system in the body. The extracellular matrix of fascia connects
  into cytoskeleton of cells and in turn the cytoskeleton connects into the
  cell nucleus. The tension in fascia is now known to affect the expression
  of DNA in the nucleus.The workshop will explore the lines of connection t
 hrough the core of the body\, we will look at biotensegrity\, how oscillat
 ions in tissues feed the brain\, and we will look at the transverse diaphr
 agms. Transverse diaphragms are common places for holding tight and often 
 limit the free movement of tremors through the body. TRE Supervision Days
 The goal of supervision days is to help you deepen into your practice and 
 understanding of TRE. They are open to anyone who has attended a 3 day TRE
  Level 1 course or has a strong TRE self practice.Each day will be a mix o
 f personal practice of TRE\, lectures on associated theory\, discussion of
  your own responses to TRE and observing and supporting others through the
  TRE process.Each day is a stand alone workshop\, so you can attend any si
 ngle day.Attending one supervision day can count as one personal supervisi
 on session (to be agreed with your supervisor) towards your TRE Certified 
 Provider accreditation.  Instructor:Steve Haines has been working in hea
 lthcare for over 25 years and as a bodyworker since 1998. He is the co-aut
 hor of ‘Cranial Intelligence’ and author of the short graphic books 
 ‘Pain Is Really Strange’ and ‘Trauma Is Really Strange’. Understan
 ding the science of pain and trauma has transformed his approach to healin
 g. He has studied Yoga\, Shiatsu\, Biodynamic Craniosacral Therapy\, and T
 rauma Releasing Exercises (TRE). He is a UK registered Chiropractor and te
 aches TRE and Cranial work all over the world. His treatments now use educ
 ation\, embodied awareness and light touch to help people move more freely
  and be more present. Steve lives and works between London and Geneva. Tre
 atments: www.stevehaines.net Teaching TRE: www.trecollege.com Teaching Cra
 nial: www.bodyintelligence.com Graphic Books: www.painisreallystrange.com
  
ATTACH;FMTTYPE=image/jpeg:https://treglobal.org/wp-content/uploads/2015/06
 /Steve-Haines8.jpg
CATEGORIES:Intro Workshops / Recurring Classes / Online Events
LOCATION:Diorama Arts Studios\, 201 Drummond St\,\, London\, United Kingdom
GEO:51.5259499;-0.14053390000003674
X-APPLE-STRUCTURED-LOCATION;VALUE=URI;X-ADDRESS=201 Drummond St\,\, London\
 , United Kingdom;X-APPLE-RADIUS=100;X-TITLE=Diorama Arts Studios:geo:51.52
 59499,-0.14053390000003674
END:VEVENT
BEGIN:VTIMEZONE
TZID:America/Los_Angeles
X-LIC-LOCATION:America/Los_Angeles
BEGIN:DAYLIGHT
DTSTART:20150308T030000
TZOFFSETFROM:-0800
TZOFFSETTO:-0700
TZNAME:PDT
END:DAYLIGHT
END:VTIMEZONE
END:VCALENDAR