BEGIN:VCALENDAR
VERSION:2.0
PRODID:-//wp-events-plugin.com//7.2.3.1//EN
TZID:America/Los_Angeles
X-WR-TIMEZONE:America/Los_Angeles
BEGIN:VEVENT
UID:1586@treglobal.org
DTSTART;TZID=America/Los_Angeles:20160710T140000
DTEND;TZID=America/Los_Angeles:20160710T170000
DTSTAMP:20160324T175851Z
URL:https://treglobal.org/event/kitchener-on-canada-tre-intro-class-open-t
 o-the-public/
SUMMARY:Kitchener\, ON\, Canada TRE™ INTRO CLASS (Open to the Public) 
DESCRIPTION:Kitchener\, ON\, Canada- Introductory TRE® class   This clas
 s is open to the public. Date and time:Sunday July 10\, 2016\, 2-5pm Whe
 re:Queen Street Yoga\, 44 Queen St S (Third Floor)\, Kitchener\, ON N2G 1V
 6What: We learn the exercises and we learn self-regulationCost: Early Bird
  by July 1-$75 or After July 1\, $90Reviewers $40. All prices include HST(
 Paypal or e-transfer to my email address) orcheque payable to Pianoscapes 
 Inc\, 61 Jarvis St\, Orillia\, ON\, L3V 2A2 Facilitator: Judy Archer\, MA
 Sc\, TRE ® Provider. Judy is also a Visual Artist\, an Inner Relationship
  Focusing Trainer\, and BodyTalk Practitioner.For a flyer go to www.judy-a
 rcher.com Live musical Facilitation: Michael Jones\, Pianoscapes To regi
 ster contact Judy:  judyarcher@rogers.com    
CATEGORIES:Intro Workshops / Recurring Classes / Online Events
LOCATION:Queen Street Yoga\, 44 Queen St S (Third Floor)\, Kitchener\, ON\,
  N2G 1V6\, Canada
GEO:43.4493924;-80.49017830000003
X-APPLE-STRUCTURED-LOCATION;VALUE=URI;X-ADDRESS=44 Queen St S (Third Floor)
 \, Kitchener\, ON\, N2G 1V6\, Canada;X-APPLE-RADIUS=100;X-TITLE=Queen Stre
 et Yoga:geo:43.4493924,-80.49017830000003
END:VEVENT
BEGIN:VTIMEZONE
TZID:America/Los_Angeles
X-LIC-LOCATION:America/Los_Angeles
BEGIN:DAYLIGHT
DTSTART:20160313T030000
TZOFFSETFROM:-0800
TZOFFSETTO:-0700
TZNAME:PDT
END:DAYLIGHT
END:VTIMEZONE
END:VCALENDAR