BEGIN:VCALENDAR
VERSION:2.0
PRODID:-//wp-events-plugin.com//7.2.3.1//EN
TZID:America/Los_Angeles
X-WR-TIMEZONE:America/Los_Angeles
BEGIN:VEVENT
UID:1630@treglobal.org
DTSTART;TZID=America/Los_Angeles:20160626T180000
DTEND;TZID=America/Los_Angeles:20160626T193000
DTSTAMP:20160501T001508Z
URL:https://treglobal.org/event/kailua-oahu-hawaii-tre-intro-workshop-open
 -to-the-general-public-8/
SUMMARY:Kailua\, OAHU Hawai'i - TRE™ Intro Workshop (open to the general 
 public)
DESCRIPTION:Introduction to TRE™ — Introductory priced @ $20Sunday\, J
 une 26 : 6:00 PM – 7:30 PMIntroduction to TRE™ is designed to help in
 dividuals learn the basic biology of stress and trauma\, and how it impact
 s your physical\, psychological and emotional wellbeing. Participants wil
 l be lead through the simple\, yet powerful exercises of TRE™ and lear
 n how to naturally “shake off” tension and stress\, calm the nervous s
 ystem\, and return the body to a more relaxed state.Commended by the U.S.
  Department of Defense for its “simplicity\, brevity\, and immediate ef
 fects\,” TRE™ is a unique approach to releasing stress\, deep chronic
  tension and trauma directly from the body. It provides an immediate expe
 rience of deeper relaxation\, restful sleep and greater resilience\, and w
 ith continued practice can lead to a sense of personal transformation allo
 wing you to meet life’s challenges with greater skill and assurance. Do
 cumented benefits include:Release of chronic tension and emotional or phys
 ical traumaIncreased energy and staminaRelief from body aches\, including 
 back pain\, headaches\, and TMJImproved sleepBetter moodGreater mobilityLe
 ss anxietyImproved focus and cognitive functionDeeper connectionCLASS SIZE
  LIMITED | REGISTRATION REQUIREDTO REGISTER: http://trealive.com/tre-intr
 o/Class being taught by Kimberley Kaiser Stern ~ The ONLY Certified TRE
 ™ Provider on the Hawaiian Islands\, and sole proprietor of TRE Alive is
  a Global TRE™ Provider – Certified by the TRE Training Institute of L
 os Angeles\, Certified Esalen® Massage Practitioner\, Reiki Facilitator\,
  and Trigger Point Release Therapist.For more information: http://trealiv
 e.com 
ATTACH;FMTTYPE=image/jpeg:https://treglobal.org/wp-content/uploads/2016/04
 /ClassRepose_7001.jpg
CATEGORIES:Intro Workshops / Recurring Classes / Online Events
LOCATION:Mindful Matters Wellness Center-Kailua Medical Arts Bldg\, 407 Ulu
 niu St. Suite 412\, Kailua\, Hawaii (HI)\, 96734\, United States
GEO:21.3963517;-157.74333760000002
X-APPLE-STRUCTURED-LOCATION;VALUE=URI;X-ADDRESS=407 Uluniu St. Suite 412\, 
 Kailua\, Hawaii (HI)\, 96734\, United States;X-APPLE-RADIUS=100;X-TITLE=Mi
 ndful Matters Wellness Center-Kailua Medical Arts Bldg:geo:21.3963517,-157
 .74333760000002
END:VEVENT
BEGIN:VTIMEZONE
TZID:America/Los_Angeles
X-LIC-LOCATION:America/Los_Angeles
BEGIN:DAYLIGHT
DTSTART:20160313T030000
TZOFFSETFROM:-0800
TZOFFSETTO:-0700
TZNAME:PDT
END:DAYLIGHT
END:VTIMEZONE
END:VCALENDAR