BEGIN:VCALENDAR
VERSION:2.0
PRODID:-//wp-events-plugin.com//7.2.3.1//EN
TZID:America/Los_Angeles
X-WR-TIMEZONE:America/Los_Angeles
BEGIN:VEVENT
UID:1629@treglobal.org
DTSTART;TZID=America/Los_Angeles:20160614T190000
DTEND;TZID=America/Los_Angeles:20160614T203000
DTSTAMP:20160501T000655Z
URL:https://treglobal.org/event/kailua-oahu-hawaii-tre-intro-workshop-open
 -to-the-general-public-7/
SUMMARY:Kailua\, OAHU Hawai'i - TRE™ Intro Workshop (open to the general 
 public)
DESCRIPTION:Introduction to TRE™ — Introductory priced @ $20Tuesday\, 
 6/14 : 7:00 PM – 8:30 PMAlso being offered: Sunday\, 6/26 6:00PM – 7:3
 0PMIntroduction to TRE™ is designed to help individuals learn the basic
  biology of stress and trauma\, and how it impacts your physical\, psychol
 ogical and emotional wellbeing. Participants will be lead through the si
 mple\, yet powerful exercises of TRE™ and learn how to naturally “sha
 ke off” tension and stress\, calm the nervous system\, and return the b
 ody to a more relaxed state.Commended by the U.S. Department of Defense fo
 r its “simplicity\, brevity\, and immediate effects\,” TRE™ is a u
 nique approach to releasing stress\, deep chronic tension and trauma direc
 tly from the body. It provides an immediate experience of deeper relaxati
 on\, restful sleep and greater resilience\, and with continued practice ca
 n lead to a sense of personal transformation allowing you to meet life’s
  challenges with greater skill and assurance. Documented benefits include
 :Release of chronic tension and emotional or physical traumaIncreased ener
 gy and staminaRelief from body aches\, including back pain\, headaches\, a
 nd TMJImproved sleepBetter moodGreater mobilityLess anxietyImproved focus 
 and cognitive functionDeeper connectionCLASS SIZE LIMITED | REGISTRATION R
 EQUIREDTO REGISTER: http://trealive.com/tre-intro/Class being taught by K
 imberley Kaiser Stern ~ The ONLY Certified TRE™ Provider on the Hawaiia
 n Islands\, is sole proprietor of TRE Alive and a Global TRE™ Provider 
 – Certified by the TRE Training Institute of Los Angeles\, Esalen® Mass
 age Practitioner\, Reiki Facilitator\, and Trigger Point Release Therapist
 .For more information: http://trealive.com 
ATTACH;FMTTYPE=image/jpeg:https://treglobal.org/wp-content/uploads/2016/04
 /ClassRepose2_700.jpg
CATEGORIES:Intro Workshops / Recurring Classes / Online Events
LOCATION:Mindful Matters Wellness Center-Kailua Medical Arts Bldg\, 407 Ulu
 niu St. Suite 412\, Kailua\, Hawaii (HI)\, 96734\, United States
GEO:21.3963517;-157.74333760000002
X-APPLE-STRUCTURED-LOCATION;VALUE=URI;X-ADDRESS=407 Uluniu St. Suite 412\, 
 Kailua\, Hawaii (HI)\, 96734\, United States;X-APPLE-RADIUS=100;X-TITLE=Mi
 ndful Matters Wellness Center-Kailua Medical Arts Bldg:geo:21.3963517,-157
 .74333760000002
END:VEVENT
BEGIN:VTIMEZONE
TZID:America/Los_Angeles
X-LIC-LOCATION:America/Los_Angeles
BEGIN:DAYLIGHT
DTSTART:20160313T030000
TZOFFSETFROM:-0800
TZOFFSETTO:-0700
TZNAME:PDT
END:DAYLIGHT
END:VTIMEZONE
END:VCALENDAR