BEGIN:VCALENDAR
VERSION:2.0
PRODID:-//wp-events-plugin.com//7.2.3.1//EN
TZID:America/Los_Angeles
X-WR-TIMEZONE:America/Los_Angeles
BEGIN:VEVENT
UID:1628@treglobal.org
DTSTART;TZID=America/Los_Angeles:20160612T180000
DTEND;TZID=America/Los_Angeles:20160612T193000
DTSTAMP:20160430T234905Z
URL:https://treglobal.org/event/kailua-oahu-hawaii-tre-intro-workshop-open
 -to-the-general-public-6/
SUMMARY:Kailua\, OAHU Hawai'i - TRE™ Intro Workshop (open to the general 
 public)
DESCRIPTION:Introduction to TRE™ Sunday\, 6/12 : 6:00 PM – 7:30 PM Als
 o being offered: Tuesday\, 6/14 : 7:00 PM – 8:30 PM | Sunday\, 6/26 6:00
 PM – 7:30PMIntroduction to TRE™ is designed to help individuals learn
  the basic biology of stress and trauma\, and how it impacts your physical
 \, psychological and emotional wellbeing. Participants will be lead throu
 gh the simple\, yet powerful exercises of TRE™ and learn how to natura
 lly “shake off” tension and stress\, calm the nervous system\, and ret
 urn the body to a more relaxed state.Commended by the U.S. Department of 
 Defense for its “simplicity\, brevity\, and immediate effects\,” TRE
 ™ is a unique approach to releasing stress\, deep chronic tension and tr
 auma directly from the body. It provides an immediate experience of deepe
 r relaxation\, restful sleep and greater resilience\, and with continued p
 ractice can lead to a sense of personal transformation allowing you to mee
 t life’s challenges with greater skill and assurance. Documented benefi
 ts include:Release of chronic tension and emotional or physical traumaIncr
 eased energy and staminaRelief from body aches\, including back pain\, hea
 daches\, and TMJImproved sleepBetter moodGreater mobilityLess anxietyImpro
 ved focus and cognitive functionDeeper connectionCLASS SIZE LIMITED | REGI
 STRATION REQUIREDTO REGISTER: http://trealive.com/tre-intro/Class being t
 aught by Kimberley Stern ~ sole proprietor of TRE Alive and Global TRE™
  Provider – Certified by the TRE Training Institute of Los Angeles\, Esa
 len® Massage Practitioner\, Reiki Facilitator\, and Trigger Point Release
  Therapist.For more information: http://trealive.com
ATTACH;FMTTYPE=image/jpeg:https://treglobal.org/wp-content/uploads/2016/04
 /GroupBow2_7001.jpg
CATEGORIES:Intro Workshops / Recurring Classes / Online Events
LOCATION:Mindful Matters Wellness Center-Kailua Medical Arts Bldg\, 407 Ulu
 niu St. Suite 412\, Kailua\, Hawaii (HI)\, 96734\, United States
GEO:21.3963517;-157.74333760000002
X-APPLE-STRUCTURED-LOCATION;VALUE=URI;X-ADDRESS=407 Uluniu St. Suite 412\, 
 Kailua\, Hawaii (HI)\, 96734\, United States;X-APPLE-RADIUS=100;X-TITLE=Mi
 ndful Matters Wellness Center-Kailua Medical Arts Bldg:geo:21.3963517,-157
 .74333760000002
END:VEVENT
BEGIN:VTIMEZONE
TZID:America/Los_Angeles
X-LIC-LOCATION:America/Los_Angeles
BEGIN:DAYLIGHT
DTSTART:20160313T030000
TZOFFSETFROM:-0800
TZOFFSETTO:-0700
TZNAME:PDT
END:DAYLIGHT
END:VTIMEZONE
END:VCALENDAR