BEGIN:VCALENDAR
VERSION:2.0
PRODID:-//wp-events-plugin.com//7.2.3.1//EN
TZID:America/Los_Angeles
X-WR-TIMEZONE:America/Los_Angeles
BEGIN:VEVENT
UID:1627@treglobal.org
DTSTART;TZID=America/Los_Angeles:20160517T000000
DTEND;TZID=America/Los_Angeles:20160517T203000
DTSTAMP:20160430T234134Z
URL:https://treglobal.org/event/kailua-oahu-hawaii-tre-intro-workshop-open
 -to-the-general-public-5/
SUMMARY:Kailua\, OAHU Hawai'i - TRE™ Intro Workshop (open to the general 
 public)
DESCRIPTION:Introduction to TRE™ Tuesday\, May 17 : 7:00 PM – 8:30 PMA
 lso being offered in JUNE: Sunday\, 6/12 : 6:00 PM – 7:30 PM | Tuesday\,
  6/14 : 7:00 PM – 8:30 PM | Sunday\, 6/26 6:00PM – 7:30PMIntroduction 
 to TRE™ is designed to help individuals learn the basic biology of stre
 ss and trauma\, and how it impacts your physical\, psychological and emoti
 onal wellbeing. Participants will be lead through the simple\, yet power
 ful exercises of TRE™ and learn how to naturally “shake off” tensio
 n and stress\, calm the nervous system\, and return the body to a more re
 laxed state.Commended by the U.S. Department of Defense for its “simpli
 city\, brevity\, and immediate effects\,” TRE™ is a unique approach t
 o releasing stress\, deep chronic tension and trauma directly from the bod
 y. It provides an immediate experience of deeper relaxation\, restful sle
 ep and greater resilience\, and with continued practice can lead to a sens
 e of personal transformation allowing you to meet life’s challenges with
  greater skill and assurance. Documented benefits include:Release of chro
 nic tension and emotional or physical traumaIncreased energy and staminaRe
 lief from body aches\, including back pain\, headaches\, and TMJImproved s
 leepBetter moodGreater mobilityLess anxietyImproved focus and cognitive fu
 nctionDeeper connectionCLASS SIZE LIMITED | REGISTRATION REQUIREDTO REGIST
 ER: http://trealive.com/tre-intro/Class being taught by Kimberley Kaiser 
 Stern ~ sole proprietor of TRE Alive and Global TRE™ Provider – Certi
 fied by the TRE Training Institute of Los Angeles\, Esalen® Massage Pract
 itioner\, Reiki Facilitator\, and Trigger Point Release Therapist.For more
  information: http://trealive.com
ATTACH;FMTTYPE=image/jpeg:https://treglobal.org/wp-content/uploads/2016/04
 /ClassRepose_700.jpg
CATEGORIES:Intro Workshops / Recurring Classes / Online Events
LOCATION:Mindful Matters Wellness Center-Kailua Medical Arts Bldg\, 407 Ulu
 niu St. Suite 412\, Kailua\, Hawaii (HI)\, 96734\, United States
GEO:21.3963517;-157.74333760000002
X-APPLE-STRUCTURED-LOCATION;VALUE=URI;X-ADDRESS=407 Uluniu St. Suite 412\, 
 Kailua\, Hawaii (HI)\, 96734\, United States;X-APPLE-RADIUS=100;X-TITLE=Mi
 ndful Matters Wellness Center-Kailua Medical Arts Bldg:geo:21.3963517,-157
 .74333760000002
END:VEVENT
BEGIN:VTIMEZONE
TZID:America/Los_Angeles
X-LIC-LOCATION:America/Los_Angeles
BEGIN:DAYLIGHT
DTSTART:20160313T030000
TZOFFSETFROM:-0800
TZOFFSETTO:-0700
TZNAME:PDT
END:DAYLIGHT
END:VTIMEZONE
END:VCALENDAR