BEGIN:VCALENDAR
VERSION:2.0
PRODID:-//wp-events-plugin.com//7.2.3.1//EN
TZID:America/Los_Angeles
X-WR-TIMEZONE:America/Los_Angeles
BEGIN:VEVENT
UID:1626@treglobal.org
DTSTART;TZID=America/Los_Angeles:20160522T000000
DTEND;TZID=America/Los_Angeles:20160522T193000
DTSTAMP:20160430T232414Z
URL:https://treglobal.org/event/kailua-oahu-hawaii-tre-intro-workshop-open
 -to-the-general-public-4/
SUMMARY:Kailua\, OAHU Hawai'i - TRE™ Intro Workshop (open to the general 
 public)
DESCRIPTION:TRE 2-part Series — Going Deeper TWO CONSECUTIVE SUNDAYS: Ma
 y 22 &amp\; 29 : 6:00 PM - 7:30 PM  Introductory Priced @ $40This TRE™ 
 2-part series will help individuals move beyond the basic biology of str
 ess and trauma\, and into an deeper understanding of how contracted state
 s impact you physically\, psychologically and emotionally through unconsc
 ious\, automatic signals from the brain. Participants will be given tools
  to increase their resilience and tips to develop deeper listening to the 
 subtle voice of their own body. By participating for 2 consecutive weeks\,
  you’ll have the opportunity to practice at home and discuss your experi
 ence while going deeper. *Open to newcomers and those who have completed
  an Introductory ClassCommended by the U.S. Department of Defense for it
 s “simplicity\, brevity\, and immediate effects\,” TRE™ is a unique
  approach to releasing stress\, deep chronic tension and trauma directly f
 rom the body. It provides an immediate experience of deeper relaxation\, 
 restful sleep and greater resilience\, and with continued practice can lea
 d to a sense of personal transformation allowing you to meet life's challe
 nges with greater skill and assurance. Documented benefits include:Releas
 e of chronic tension and emotional or physical traumaIncreased energy and 
 staminaRelief from body aches\, including back pain\, headaches\, and TMJI
 mproved sleepBetter moodGreater mobilityLess anxietyImproved focus and cog
 nitive functionDeeper connectionCLASS SIZE LIMITED | REGISTRATION REQUIRED
 TO REGISTER: http://trealive.com/tre-intro/Class being taught by Kimberle
 y Stern ~ sole proprietor of TRE Alive and Global TRE™ Provider – Cer
 tified by the TRE Training Institute of Los Angeles\, Esalen® Massage Pra
 ctitioner\, Reiki Facilitator\, and Trigger Point Release Therapist.For mo
 re information: http://trealive.com
ATTACH;FMTTYPE=image/jpeg:https://treglobal.org/wp-content/uploads/2016/04
 /GroupHamstringStretch_700.jpg
CATEGORIES:Intro Workshops / Recurring Classes / Online Events
LOCATION:Mindful Matters Wellness Center-Kailua Medical Arts Bldg\, 407 Ulu
 niu St\, Kailua\, Hawaii (HI)\, 96734\, United States
GEO:21.3963517;-157.74333760000002
X-APPLE-STRUCTURED-LOCATION;VALUE=URI;X-ADDRESS=407 Uluniu St\, Kailua\, Ha
 waii (HI)\, 96734\, United States;X-APPLE-RADIUS=100;X-TITLE=Mindful Matte
 rs Wellness Center-Kailua Medical Arts Bldg:geo:21.3963517,-157.7433376000
 0002
END:VEVENT
BEGIN:VTIMEZONE
TZID:America/Los_Angeles
X-LIC-LOCATION:America/Los_Angeles
BEGIN:DAYLIGHT
DTSTART:20160313T030000
TZOFFSETFROM:-0800
TZOFFSETTO:-0700
TZNAME:PDT
END:DAYLIGHT
END:VTIMEZONE
END:VCALENDAR