BEGIN:VCALENDAR
VERSION:2.0
PRODID:-//wp-events-plugin.com//7.2.3.1//EN
TZID:America/Los_Angeles
X-WR-TIMEZONE:America/Los_Angeles
BEGIN:VEVENT
UID:1625@treglobal.org
DTSTART;TZID=America/Los_Angeles:20160515T000000
DTEND;TZID=America/Los_Angeles:20160515T000000
DTSTAMP:20160430T230747Z
URL:https://treglobal.org/event/kailua-oahu-hawaii-tre-intro-workshop-open
 -to-the-general-public-3/
SUMMARY:Kailua\, OAHU Hawai'i - TRE™ Intro Workshop (open to the general 
 public)
DESCRIPTION:Introduction to TRE™ Offered on multiple dates in May &amp\;
  JuneChoose from Sunday\, May 15 : 6:00PM to 7:30 PM | Tuesday\, May 17 :
  7:00 PM - 8:30 PMJUNE DATES: Sunday\, 6/12 : 6:00 PM - 7:30 PM | Tuesday\
 , 6/14 : 7:00 PM - 8:30 PM | Sunday\, 6/26 6:00PM - 7:30PMIntroduction to 
 TRE™ is designed to help individuals learn the basic biology of stress 
 and trauma\, and how it impacts your physical\, psychological and emotiona
 l wellbeing. Participants will be lead through the simple\, yet powerful
  exercises of TRE™ and learn how to naturally “shake off” tension a
 nd stress\, calm the nervous system\, and return the body to a more relax
 ed state.Commended by the U.S. Department of Defense for its “simplicit
 y\, brevity\, and immediate effects\,” TRE™ is a unique approach to r
 eleasing stress\, deep chronic tension and trauma directly from the body.
  It provides an immediate experience of deeper relaxation\, restful sleep
  and greater resilience\, and with continued practice can lead to a sense 
 of personal transformation allowing you to meet life's challenges with gre
 ater skill and assurance. Documented benefits include:Release of chronic 
 tension and emotional or physical traumaIncreased energy and staminaRelief
  from body aches\, including back pain\, headaches\, and TMJImproved sleep
 Better moodGreater mobilityLess anxietyImproved focus and cognitive functi
 onDeeper connectionCLASS SIZE LIMITED | REGISTRATION REQUIREDTO REGISTER:
  http://trealive.com/tre-intro/Class being taught by Kimberley Stern ~ so
 le proprietor of TRE Alive and Global TRE™ Provider - Certified by the T
 RE Training Institute of Los Angeles\, Esalen® Massage Practitioner\, Rei
 ki Facilitator\, and Trigger Point Release Therapist.For more information:
  http://trealive.com 
ATTACH;FMTTYPE=image/jpeg:https://treglobal.org/wp-content/uploads/2016/04
 /GroupBow2_700.jpg
CATEGORIES:Intro Workshops / Recurring Classes / Online Events
LOCATION:Mindful Matters Wellness Center-Kailua Medical Arts Bldg\, 407 Ulu
 niu St\, Kailua\, Hawaii (HI)\, 96734\, United States
GEO:21.3963517;-157.74333760000002
X-APPLE-STRUCTURED-LOCATION;VALUE=URI;X-ADDRESS=407 Uluniu St\, Kailua\, Ha
 waii (HI)\, 96734\, United States;X-APPLE-RADIUS=100;X-TITLE=Mindful Matte
 rs Wellness Center-Kailua Medical Arts Bldg:geo:21.3963517,-157.7433376000
 0002
END:VEVENT
BEGIN:VTIMEZONE
TZID:America/Los_Angeles
X-LIC-LOCATION:America/Los_Angeles
BEGIN:DAYLIGHT
DTSTART:20160313T030000
TZOFFSETFROM:-0800
TZOFFSETTO:-0700
TZNAME:PDT
END:DAYLIGHT
END:VTIMEZONE
END:VCALENDAR