BEGIN:VCALENDAR
VERSION:2.0
PRODID:-//wp-events-plugin.com//7.2.3.1//EN
TZID:America/Los_Angeles
X-WR-TIMEZONE:America/Los_Angeles
BEGIN:VEVENT
UID:5828@treglobal.org
DTSTART;TZID=America/Denver:20230402T150000
DTEND;TZID=America/Denver:20230402T160000
DTSTAMP:20230324T152154Z
URL:https://treglobal.org/event/introduction-to-tre-6/
SUMMARY:Introduction to TRE™
DESCRIPTION:This two hour workshop is held at Ojo Caliente.  Register thro
 ugh Ojo Caliente and make a day of it to soak in the amazing hot springs a
 s well as eat delicious food and relax. Nadine Lollino is providing this w
 orkshop through Ojo Caliente.
ATTACH;FMTTYPE=image/jpeg:https://treglobal.org/wp-content/uploads/2023/03
 /IMG_5083-1.jpg
CATEGORIES:Intro Workshops / Recurring Classes / Online Events
LOCATION:Ojo Caliente\, 50 Los Banos Dr\, Ojo Caliente\, New Mexico\, 87549
 \, United States
X-APPLE-STRUCTURED-LOCATION;VALUE=URI;X-ADDRESS=50 Los Banos Dr\, Ojo Calie
 nte\, New Mexico\, 87549\, United States;X-APPLE-RADIUS=100;X-TITLE=Ojo Ca
 liente:geo:0,0
END:VEVENT
BEGIN:VTIMEZONE
TZID:America/Denver
X-LIC-LOCATION:America/Denver
BEGIN:DAYLIGHT
DTSTART:20230312T030000
TZOFFSETFROM:-0700
TZOFFSETTO:-0600
TZNAME:MDT
END:DAYLIGHT
END:VTIMEZONE
END:VCALENDAR