BEGIN:VCALENDAR
VERSION:2.0
PRODID:-//wp-events-plugin.com//7.2.3.1//EN
TZID:America/Los_Angeles
X-WR-TIMEZONE:America/Los_Angeles
BEGIN:VEVENT
UID:5423@treglobal.org
DTSTART;TZID=Europe/Madrid:20210724T113000
DTEND;TZID=Europe/Madrid:20210724T140000
DTSTAMP:20210702T192151Z
URL:https://treglobal.org/event/introduction-to-neurogenic-yoga/
SUMMARY:Introduction to Neurogenic Yoga
DESCRIPTION:Pre-registration 25 Euros or 30 Euros at the door
CATEGORIES:Neurogenic Yoga Workshops / Trainings
LOCATION:Radiant Yoga\, Calle Supermanzana E. Sector URP\, Nueva Andalucia\
 , Marbella\, 29660\, Malaga\, Spain
X-APPLE-STRUCTURED-LOCATION;VALUE=URI;X-ADDRESS=Calle Supermanzana E. Secto
 r URP\, Nueva Andalucia\, Marbella\, 29660\, Malaga\, Spain;X-APPLE-RADIUS
 =100;X-TITLE=Radiant Yoga:geo:0,0
END:VEVENT
BEGIN:VTIMEZONE
TZID:Europe/Madrid
X-LIC-LOCATION:Europe/Madrid
BEGIN:DAYLIGHT
DTSTART:20210328T030000
TZOFFSETFROM:+0100
TZOFFSETTO:+0200
TZNAME:CEST
END:DAYLIGHT
END:VTIMEZONE
END:VCALENDAR