BEGIN:VCALENDAR
VERSION:2.0
PRODID:-//wp-events-plugin.com//7.2.3.1//EN
TZID:America/Los_Angeles
X-WR-TIMEZONE:America/Los_Angeles
BEGIN:VEVENT
UID:6105@treglobal.org
DTSTART;TZID=America/New_York:20241005T170000
DTEND;TZID=America/New_York:20241005T183000
DTSTAMP:20240924T210755Z
URL:https://treglobal.org/event/intro-to-tre-workshop-in-cambridge-ma/
SUMMARY:Intro to TRE workshop in Cambridge\, MA
DESCRIPTION:Join us to learn TRE. Tension &amp\; Trauma Release Exercises\n
 Tension &amp\; Trauma Release Exercises (or TRE™) is a simple yet innova
 tive series of exercises that assist the body in releasing deep muscular p
 atterns of stress\, tension and trauma. Created by Dr. David Berceli\, PhD
 \, TRE safely activates a natural reflex mechanism of shaking or vibrating
  that releases muscular tension\, calming down the nervous system. When th
 is muscular shaking/vibrating mechanism is activated in a safe and control
 led environment\, the body is encouraged to return back to a state of bala
 nce.\nJoin me in learning this wonderful technique for releasing chronic s
 tress and tension. I use this modality regularly and it's improved my qual
 ity of life tremendously. There are no prerequisites. It's not a fitness r
 outine. Wear comfortable clothing and bring water and a mat.
CATEGORIES:Intro Workshops / Recurring Classes / Online Events
LOCATION:The Embody School\, 46 Second Street\, Cambridge\, MA\, 02141\, Un
 ited States
X-APPLE-STRUCTURED-LOCATION;VALUE=URI;X-ADDRESS=46 Second Street\, Cambridg
 e\, MA\, 02141\, United States;X-APPLE-RADIUS=100;X-TITLE=The Embody Schoo
 l:geo:0,0
END:VEVENT
BEGIN:VTIMEZONE
TZID:America/New_York
X-LIC-LOCATION:America/New_York
BEGIN:DAYLIGHT
DTSTART:20240310T030000
TZOFFSETFROM:-0500
TZOFFSETTO:-0400
TZNAME:EDT
END:DAYLIGHT
END:VTIMEZONE
END:VCALENDAR