BEGIN:VCALENDAR
VERSION:2.0
PRODID:-//wp-events-plugin.com//7.2.3.1//EN
TZID:America/Los_Angeles
X-WR-TIMEZONE:America/Los_Angeles
BEGIN:VEVENT
UID:5943@treglobal.org
DTSTART;TZID=Pacific/Auckland:20231024T183000
DTEND;TZID=Pacific/Auckland:20231024T193000
DTSTAMP:20231009T004640Z
URL:https://treglobal.org/event/intro-to-tre-with-christine-wehrmeier-flow
 -yoga-christchurch-new-zealand/
SUMMARY:NEW ZEALAND - Intro to TRE™ – with Christine Wehrmeier @ Flow Y
 oga Christchurch
DESCRIPTION:\nJoin us on a journey to inner peace and well-being as we cont
 inue our October Challenge/Sadhana month with a special class you won’t 
 want to miss!\n\n\n Intro to TRE with Christine Wehrmeier\n Tuesday\, 10
 th October\n 6:30 PM – 7:30 PM\n\n\nDiscover the power of therapeutic t
 remoring as @christine.wehrmeier guides you to release stress\, tension\
 , and trauma from your body.\n\n\nThis workshop is the perfect opportunity
  to get a taste of what awaits you in our upcoming TRE course. Don’t mis
 s out on this chance to embark on a path of self-discovery and healing.\n\
 n\nTo reserve your spot\, simply book via the Flow Yoga app or reach out t
 o us at:\n Phone: 03 348 8889\n Email: info@flowhotyoga.co.nz\n\n\nLet
 ’s come together in pursuit of well-being and embrace the journey of sel
 f-care this October.\n\n\n#flowwellbeingchristchurch #christchurchyoga #
 tre #releasestress\n\nFor more information visit: www.christinewehrmeier.
 com\n
ATTACH;FMTTYPE=image/jpeg:https://treglobal.org/wp-content/uploads/2023/10
 /Untitled-design-1.jpg
CATEGORIES:Intro Workshops / Recurring Classes / Online Events
LOCATION:Flow Yoga Christchurch\, 229 Fitzgerald Avenue\, Christchurch\, Ca
 nterbury\, 8011\, New Zealand
X-APPLE-STRUCTURED-LOCATION;VALUE=URI;X-ADDRESS=229 Fitzgerald Avenue\, Chr
 istchurch\, Canterbury\, 8011\, New Zealand;X-APPLE-RADIUS=100;X-TITLE=Flo
 w Yoga Christchurch:geo:0,0
END:VEVENT
BEGIN:VTIMEZONE
TZID:Pacific/Auckland
X-LIC-LOCATION:Pacific/Auckland
BEGIN:DAYLIGHT
DTSTART:20230924T030000
TZOFFSETFROM:+1200
TZOFFSETTO:+1300
TZNAME:NZDT
END:DAYLIGHT
END:VTIMEZONE
END:VCALENDAR