BEGIN:VCALENDAR
VERSION:2.0
PRODID:-//wp-events-plugin.com//7.2.3.1//EN
TZID:America/Los_Angeles
X-WR-TIMEZONE:America/Los_Angeles
BEGIN:VEVENT
UID:6050@treglobal.org
DTSTART;TZID=Pacific/Auckland:20240519T100000
DTEND;TZID=Pacific/Auckland:20240519T120000
DTSTAMP:20240425T103137Z
URL:https://treglobal.org/event/intro-to-tre-4-sessions-online-with-christ
 ine-wehrmeier/
SUMMARY:Intro To TRE™ - 4 Sessions - ONLINE - with Christine Wehrmeier
DESCRIPTION:Intro To TRE™ – 4 Sessions – ONLINE\nMay 19\, 26\, June 2
 \, 16 – Sundays 10am-Noon (New Zealand Time)\nWhat to expect:\nOver 4 se
 ssions you will be taught the TRE™ exercises as developed by Dr David Be
 rceli. Each session is a mix of theory\, discussion and practice.\nClasses
  are held live on ZOOM\, with a maximum of 8 students so I can give my who
 lehearted attention.\n&nbsp\;\nFurther details and to book your spot:\nhtt
 ps://www.christinewehrmeier.com/booking/\nPrivate sessions are also availa
 ble.\n&nbsp\;\nAbout Your TRE™ Provider:\nHello\, my name is Christine W
 ehrmeier.\nCertified TRE™ Provider\, Life &amp\; MindBody Coach\, Certif
 icate in Dance &amp\; Movement Therapy\, currently studying Creative Arts 
 Therapy\nOriginally from Australia with German and Japanese heritage\, I h
 ave lived in the UK\, Germany\, Czechia\, Indonesia\, Iceland and since 20
 22 I call Christchurch\, New Zealand home. I have a Psychology degree from
  the University of Sydney and I trained in various stress and trauma heali
 ng techniques after I experienced a burnout and 20 years of chronic back p
 ain that forced me to go beyond what the clinical world had to offer\, in 
 order to find effective and lasting help and healing in my life. TRE™ is
  a powerful tool for healing and so it’s an honour to share it with othe
 rs.\n“Thank you\, I’m so grateful to have done these TRE™ classes wi
 th you\, it’s so deeply relaxing — it feels so beautiful in my heart.
 ”\n– ALICIA (USA)\n
ATTACH;FMTTYPE=image/jpeg:https://treglobal.org/wp-content/uploads/2024/04
 /CHRISTINE-WEHRMEIER-700-×-394px.jpg
CATEGORIES:Intro Workshops / Recurring Classes / Online Events
LOCATION:https://www.christinewehrmeier.com/booking/
END:VEVENT
BEGIN:VTIMEZONE
TZID:Pacific/Auckland
X-LIC-LOCATION:Pacific/Auckland
BEGIN:STANDARD
DTSTART:20240407T020000
TZOFFSETFROM:+1300
TZOFFSETTO:+1200
TZNAME:NZST
END:STANDARD
END:VTIMEZONE
END:VCALENDAR