BEGIN:VCALENDAR
VERSION:2.0
PRODID:-//wp-events-plugin.com//7.2.3.1//EN
TZID:America/Los_Angeles
X-WR-TIMEZONE:America/Los_Angeles
BEGIN:VEVENT
UID:5807@treglobal.org
DTSTART;TZID=Europe/Bucharest:20230318T133000
DTEND;TZID=Europe/Bucharest:20230318T153000
DTSTAMP:20230305T195110Z
URL:https://treglobal.org/event/inapoi-la-armonie-workshop-introductiv-in-
 tre-3/
SUMMARY:Inapoi la Armonie - Workshop Introductiv in TRE™
DESCRIPTION:Va invitam la acest workshop introductiv de doua ore in care vo
 m explora impreuna procesul somatic TRE™!\n\nVom practica impreuna o ser
 ie blanda de 7 stretch-uri denumite pe scurt TRE™\, stretch-uri ce au me
 nirea de a ne reconecta la pulsatia sau vibratia naturala a organismelor n
 oastre. Aceasta pulsatie organica ce porneste din interiorul corpului mase
 aza organele interne\, relaxeaza muschii\, fluidizeaza tesutul conectiv si
  aduce sistemul nervos intr-o stare de calm\, impamantare si prezenta.\n\n
 TRE™ este un proces orientat catre corp\, experiential\, bland si sigur\
 , in care nu este necesara analiza sau interpretarea cognitiva pentru a pu
 tea simti relaxare\, pace interioara sau armonie.\n\nAtunci cand percepem 
 o situatie de potential pericol\, corpul este cel care reactioneaza prin d
 eja bine-cunoscutele mecanisme de aparare: lupta-fugi-ingheata\, ceea ce p
 resupune o cascada de evenimente somatice: eliberare de hormoni de stres\,
  cresterea ritmului cardiac\, respiratie superficiala si rapida\, incordar
 ea unor muschi esentiali in desfasurarea reactiei de aparare\, incetinirea
  sau chiar oprirea unor functii ale organismului care nu sunt prioritare i
 n acel moment de potential pericol ( spre exemplu sistemul imunitar si cel
  digestiv) si lista poate continua...\n\nDupa ce evenimentul a trecut\, id
 eal ar fi sa putem iesi din starea de alerta si reveni cu usurinta la o fu
 nctionare armonioasa\, ritmica a organismelor noastre. Toate mamiferele de
  pe acest pamant 'descarca' surplusul de adrenalina\, incordare si stres p
 rin mecanismul natural\, codat genetic de pulsatie sau vibratie. Acelasi p
 e care si noi il vom re-cunoaste prin intermediul TRE™\n\nVa invitam sa 
 fim impreuna asemenea prietenilor nostri necuvantatori care dau voie intel
 igentei corpului sa sustina revenirea lor fara de efort la armonie!\n\nIn 
 cadrul workshopului vom impartasi informatii relevante despre raspunsurile
  de stres si de relaxare ale corpului\, si vom experimenta o sesiune facil
 itata de TRE™\, invitand intoarcerea catre starea naturala de relaxare p
 rofunda in propria piele!\n\n☆☆☆ Acesta este ultimul workshop introd
 uctiv inaintea Workshop-ului de 3 zile/ Modulului 1 al Trainingului de Cer
 tificare Globala TRE™ din 24-26 Martie 2023 ☆☆☆\n\nCAND?\n\nSambat
 a\, 28 ianuarie\, de la 13:30 la 15:30\n\n&nbsp\;\n\nUNDE?\n\nLa ElephantY
 ogi Studio\, in str. Sfintilor nr.6\, la Mansarda (in cladirea cu restaura
 ntul Papila)\n\n&nbsp\;\n\nCAT?\n\n☆ 170 RON / persoana pentru inscriere
  in avans\n\n☆ 200 RON / persoana la fata locului\n\n&nbsp\;\n\nInscrier
 ea in avans se face trimitand email catre treromania@gmail.com\n\nParticip
 area la aceasta clasa este deschisa in limita locurilor disponibile.\n\n&n
 bsp\;\n\nCE? Adu cu tine:\n\n- haine lejere de schimb in care sa ai libert
 ate de miscare\n\n- sticla cu apa\n\n- deschidere si curiozitate de a-ti c
 unoaste inteligenta organismului si de a sadi si creste o relatie armonioa
 sa cu corpul tau\n\n&nbsp\;\n\nCUM?\n\nInscrierea se face trimitand un ema
 il catre Teodora la treromania@gmail.com si achitand costul workshop-ului.
 \n\n&nbsp\;\n\nALTE DETALII PARTICIPARE:\n\n☆ Procesul de introducere in
  TRE™ se face in cadrul unui grup mixt cu participare deschisa atat feme
 ilor cat si barbatilor.\n\n☆ TRE™ este un proces somatic in care lucra
 m direct cu corpul\, intr-un mediu de siguranta in care organismul primest
 e permisiunea de a elibera si reorganiza fizic tensiuni musculare si tipar
 e de contractare. Nu presupune a vorbi despre evenimentele stresante sau t
 raumatizante.\n\n☆ Participarea la sesiunea introductiva are ca scop fam
 iliarizarea cu propriul mecanism de vibratie prin intermediul TRE™ ca me
 toda do-it-yourself de a restabili echilibrul si armonia organismului ca i
 ntreg.\n\n☆ In urma acestei sesiuni\, participantii pot continua practic
 a TRE™ cu un facilitator pana la invatarea procesului sau\, daca se simt
  confortabil\, pot explora pe cont propriu\, si sub nici o forma NU acorda
  dreptul de a arata sau conduce alte persoane prin procesul TRE™\n\n☆ 
 Va rugam sa aveti in vedere ca acest grup nu se adreseaza femeilor insarci
 nate si copiilor.\n\n☆ Daca va confruntati cu dizabilitati fizice sau da
 ca ati avut o interventie chirurgicala in ultimele 3 luni\, va rugam sa o 
 contactati direct pe Teodora la treromania@gmail.com\n\n☆ In cazul impos
 ibilitatii de a participa la atelierul de lucru din cauze ce nu tin de org
 anizator\, suma achitata nu se ramburseaza. Ea poate fi transferata pentru
  evenimente viitoare.\n\nFACILITATOR:\n\nTeodora Buzoianu - TRE™ Trainee
  Trainer Romania\nBio: https://treforlife.com/pages/teodora-buzoianu-tre-t
 rainee-trainer
ATTACH;FMTTYPE=image/jpeg:https://treglobal.org/wp-content/uploads/2023/03
 /Workshop-Introductiv-TRE™-cu-Teodora-1-300x240-1.png
CATEGORIES:Intro Workshops / Recurring Classes / Online Events
LOCATION:ElephantYogi Studio\, Mansardă\, Str. Sfinților Nr. 6\, Buchares
 t\, 021063\, Romania
X-APPLE-STRUCTURED-LOCATION;VALUE=URI;X-ADDRESS=Mansardă\, Str. Sfinților
  Nr. 6\, Bucharest\, 021063\, Romania;X-APPLE-RADIUS=100;X-TITLE=ElephantY
 ogi Studio:geo:0,0
END:VEVENT
BEGIN:VTIMEZONE
TZID:Europe/Bucharest
X-LIC-LOCATION:Europe/Bucharest
BEGIN:STANDARD
DTSTART:20221030T030000
TZOFFSETFROM:+0300
TZOFFSETTO:+0200
TZNAME:EET
END:STANDARD
END:VTIMEZONE
END:VCALENDAR