BEGIN:VCALENDAR
VERSION:2.0
PRODID:-//wp-events-plugin.com//7.2.3.1//EN
TZID:America/Los_Angeles
X-WR-TIMEZONE:America/Los_Angeles
BEGIN:VEVENT
UID:5843@treglobal.org
DTSTART;TZID=America/Los_Angeles:20241201T110000
DTEND;TZID=America/Los_Angeles:20241201T130000
DTSTAMP:20241129T184959Z
URL:https://treglobal.org/event/in-person-tre-introductory-workshop-by-tra
 iner-maria-alfaro/
SUMMARY:ONLINE TRE™ Introductory workshop by Trainer Maria Alfaro
DESCRIPTION:This Online introductory workshop not only allows you to experi
 ence the tremoring response in a safe environment\, but also gives you a f
 oundation for understanding this natural neuro-physiological response. Lea
 rn about the history and origin of TRE and how it helps to release stress\
 , tension and trauma patterns.\n\nMost people describe the tremoring exper
 ience as pleasant and report many improvements in their physical and emoti
 onal state.\nDate and Time:\nSunday\, December 1\, 2024 \n11:00am-1:00pm 
 PST\n\nHosted by Downtown Yoga Shala\, San Jose\, CA\n\nCost:\n\n$55\n\nFa
 cilitator:\n\nA native Italian and resident of California\, Maria is a sen
 ior TRE™ and Neurogenic Yoga™ Certification Trainer and Provider. She 
 has a background in Yoga\, Chinese Martial Arts and Esalen Massage.  Sinc
 e 2004\, Maria has facilitated TRE for thousands of people in the US\, Eur
 ope\, Canada\, Asia and the Middle East. She assisted Dr. David Berceli\, 
 TRE’s founder\, in dozens of trainings in the US\, South Africa and Braz
 il\; she co-taught with him in Japan and she led hundreds of public worksh
 ops and over 130 certification trainings worldwide.  At the beginning if 
 the COVID pandemic Maria was part of an international pilot project to tak
 e the TRE Certification Program online and she facilitated online training
 s and workshops ever since.\n\nShe is also one of two creators of Neurogen
 ic Yoga™\, the sister method of TRE.\n\nMaria is known for creating a su
 pportive\, compassionate and entertaining learning environment that makes 
 people have fun and feel safe.\n\nHer websites are www.TREcalifornia.com
  and www.NeurogenicYoga.com\n\nQuestions:  maria@TREcalifornia.com\n\nR
 egistration &amp\; Payment:\n\nClick Here
ATTACH;FMTTYPE=image/jpeg:https://treglobal.org/wp-content/uploads/2023/04
 /Maria-400x400-1.jpg
CATEGORIES:Intro Workshops / Recurring Classes / Online Events
LOCATION:https://clients.mindbodyonline.com/ASP/main_enroll.asp?studioid=57
 36088&tg=22&vt=9&lvl=&stype=-8&view=day&trn=0&page=&catid=&prodid=&date=
END:VEVENT
BEGIN:VTIMEZONE
TZID:America/Los_Angeles
X-LIC-LOCATION:America/Los_Angeles
BEGIN:STANDARD
DTSTART:20241103T010000
TZOFFSETFROM:-0700
TZOFFSETTO:-0800
TZNAME:PST
END:STANDARD
END:VTIMEZONE
END:VCALENDAR