BEGIN:VCALENDAR
VERSION:2.0
PRODID:-//wp-events-plugin.com//7.2.3.1//EN
TZID:America/Los_Angeles
X-WR-TIMEZONE:America/Los_Angeles
BEGIN:VEVENT
UID:5826@treglobal.org
DTSTART;TZID=America/Chicago:20230414T100000
DTEND;TZID=America/Chicago:20230415T170000
DTSTAMP:20230323T191239Z
URL:https://treglobal.org/event/hybrid-module-1-training-madison-wisconsin
 -2/
SUMMARY:Hybrid Module 1 Training\, Madison\, Wisconsin
DESCRIPTION:This two day Module 1 workshop will start at 1pm on Friday and 
 end at 7pm. The Saturday class will be from 10am-5pm. This class will be h
 ybrid in person and on zoom. The in person class is limited to 10 people a
 nd is filling up fast. Please contact Jacy to see if space is still availa
 ble in person. Zoom is unlimited.\n\nFriday\, April 14 at 10am we will be 
 on zoom to present to Agency Based training information with Dr. David Ber
 celi. He will answer questions and we will let people know the advantages 
 of these trainings if you are using TRE only within your Agency. This is a
  free event for any Agency that is curious how this would work for their o
 rganization. please contact Jacy for information on the zoom link for this
  event.\n\nThe cost of the Module One training is $300.00\n\nModule Two is
  open to those registered for the Certification Program. Date will be June
  3-4. Cost is $300 and will focus on teaching individuals.\n\nModule Three
  is open to those registered for Certification Program. Date will be Septe
 mber 16-17. Cost is $300.00 and will focus on teaching groups\n\nPlease co
 ntact Jacy for more further information: jacy@naturalstressrelease.com or 
 call 970-948-5154\n\nTo register: www.naturalstressrelease.com
CATEGORIES:Intro Workshops / Recurring Classes / Online Events
LOCATION:Innovative Nutrition and Wellness Center\, Schroeder Court\, Madis
 on\, WI\, 53705\, United States
X-APPLE-STRUCTURED-LOCATION;VALUE=URI;X-ADDRESS=Schroeder Court\, Madison\,
  WI\, 53705\, United States;X-APPLE-RADIUS=100;X-TITLE=Innovative Nutritio
 n and Wellness Center:geo:0,0
END:VEVENT
BEGIN:VTIMEZONE
TZID:America/Chicago
X-LIC-LOCATION:America/Chicago
BEGIN:DAYLIGHT
DTSTART:20230312T030000
TZOFFSETFROM:-0600
TZOFFSETTO:-0500
TZNAME:CDT
END:DAYLIGHT
END:VTIMEZONE
END:VCALENDAR