BEGIN:VCALENDAR
VERSION:2.0
PRODID:-//wp-events-plugin.com//7.2.3.1//EN
TZID:America/Los_Angeles
X-WR-TIMEZONE:America/Los_Angeles
BEGIN:VEVENT
UID:1469@treglobal.org
DTSTART;TZID=America/Los_Angeles:20160422T090000
DTEND;TZID=America/Los_Angeles:20160424T170000
DTSTAMP:20160209T195634Z
URL:https://treglobal.org/event/greensboro-north-carolina-tre-certificatio
 n-training-module-1/
SUMMARY:Greensboro\, North Carolina TRE Certification Training - Module 1
DESCRIPTION:TRE 3 day Workshop and Certification Training April 22nd - 24t
 h\, 2016 : Greensboro\, North CarolinaGlobal Certification Training:   Ce
 rtified TRE Provider Module 1 – April 22nd - 24th\,  2016 Friday\, Sa
 turday &amp\; SundayModule 2 – June 24th - 26th\, 2016 Friday\, Saturday
  &amp\; Sunday Location: Stillwaters Wellbeing Retreat5902 Stoneleigh PLG
 reensboro\, North Carolina 27455 Times: 9am-5pm daily Contacts: www.stil
 lwaters-retreat.com336-286-8489 Donna Phillips Cost:Module 1: $495Module 
 2: $495 Each TRE class is limited to 15 people at Stillwaters 12 Supervi
 sion sessions are required for certification at an additional cost$150/ses
 sion or $135/session when purchasing minimum of 5 sessions10% discount may
  be applied if both modules paid in full by February 1st\, 2016 Certifica
 tion Trainer (Level III) – Donna Phillips\, Exercise Physiologist\, Yoga
  Therapist\, TRE-CT\, E-RYT500\, NCBTMB Provider &amp\; Pilates Teacher C
 EU's available for massage therapists\, bodyworkers and yoga teachers Des
 cription: This is a new global initiative of TRE\, LLC launched October 20
 14. Those certified will be called “Certified TRE Providers” and will 
 have the competency needed to teach both individuals and groups. The train
 ing introduces the anatomy\, neurology and physiology of stress and trauma
  as it relates to the body\, TRE and the Self-Induced Therapeutic Tremor (
 SITT) process. Certification Training competency will include:Ability to t
 each TREContainment and grounding skills and strategyIntervention &amp\; e
 nergizing strategiesAbility to provide self regulation guidance
CATEGORIES:Certification Trainings
LOCATION:Stillwaters Retreat\, 5902 Stoneleigh Pl\, Greensboro\, North Caro
 lina\, 27455\, United States
GEO:36.1673191;-79.80818010000002
X-APPLE-STRUCTURED-LOCATION;VALUE=URI;X-ADDRESS=5902 Stoneleigh Pl\, Greens
 boro\, North Carolina\, 27455\, United States;X-APPLE-RADIUS=100;X-TITLE=S
 tillwaters Retreat:geo:36.1673191,-79.80818010000002
END:VEVENT
BEGIN:VTIMEZONE
TZID:America/Los_Angeles
X-LIC-LOCATION:America/Los_Angeles
BEGIN:DAYLIGHT
DTSTART:20160313T030000
TZOFFSETFROM:-0800
TZOFFSETTO:-0700
TZNAME:PDT
END:DAYLIGHT
END:VTIMEZONE
END:VCALENDAR