BEGIN:VCALENDAR
VERSION:2.0
PRODID:-//wp-events-plugin.com//7.2.3.1//EN
TZID:America/Los_Angeles
X-WR-TIMEZONE:America/Los_Angeles
BEGIN:VEVENT
UID:1545@treglobal.org
DTSTART;TZID=America/Los_Angeles;VALUE=DATE:20160429
DTEND;TZID=America/Los_Angeles;VALUE=DATE:20160502
DTSTAMP:20160220T165956Z
URL:https://treglobal.org/event/greensboro-north-carolina-tre-certificatio
 n-training-module-1-3/
SUMMARY:Greensboro\, North Carolina - TRE Certification Training - Module 1
DESCRIPTION:Module 1 Certification Training &amp\; WorkshopFriday - Sunday 
    April 29- May 1\, 20169am - 5pm daily Module 2 Certification Trainin
 gFriday - Sunday   June 24-26th\, 20169am - 5pm daily Certification Trai
 ner:  Donna PhillipsLocation:  Stillwaters Retreat5902 Stoneleigh RdGree
 nsboro\, North Carolina 27455336-286-8489www.stillwaters-retreat.com
CATEGORIES:Certification Trainings
LOCATION:Stillwaters Wellbeing Retreat\, 5902 Stoneleigh Pl. Greensboro\, N
 orth Carolina\, 27455\, North Carolina\, United States
GEO:36.1673189;-79.8081803
X-APPLE-STRUCTURED-LOCATION;VALUE=URI;X-ADDRESS=5902 Stoneleigh Pl. Greensb
 oro\, North Carolina\, 27455\, North Carolina\, United States;X-APPLE-RADI
 US=100;X-TITLE=Stillwaters Wellbeing Retreat:geo:36.1673189,-79.8081803
END:VEVENT
BEGIN:VTIMEZONE
TZID:America/Los_Angeles
X-LIC-LOCATION:America/Los_Angeles
BEGIN:DAYLIGHT
DTSTART:20160313T030000
TZOFFSETFROM:-0800
TZOFFSETTO:-0700
TZNAME:PDT
END:DAYLIGHT
END:VTIMEZONE
END:VCALENDAR