BEGIN:VCALENDAR
VERSION:2.0
PRODID:-//wp-events-plugin.com//7.2.3.1//EN
TZID:America/Los_Angeles
X-WR-TIMEZONE:America/Los_Angeles
BEGIN:VEVENT
UID:1470@treglobal.org
DTSTART;TZID=America/Los_Angeles:20160617T090000
DTEND;TZID=America/Los_Angeles:20160619T170000
DTSTAMP:20160111T203003Z
URL:https://treglobal.org/event/greensboro-north-carolina-tre-certificatio
 n-training-module-1-2/
SUMMARY:Greensboro\, North Carolina - TRE Certification Training - Module 1
DESCRIPTION:TRE 3 day Workshop and Certification Training June 17th - 19th
 \, 2016 : Greensboro\, North CarolinaGlobal Certification Training:   Cer
 tified TRE Provider Module 1 – June 17th - 19th\, 2016 Friday\, Saturd
 ay &amp\; SundayModule 2 – August 5th - 7th\, 2016 Friday\, Saturday &am
 p\; Sunday Location: Stillwaters Wellbeing Retreat5902 Stoneleigh PLGreen
 sboro\, North Carolina 27455 Times: 9am-5pm daily Contacts: www.stillwat
 ers-retreat.com336-286-8489 Donna Phillips Cost:Module 1: $495Module 2: $
 495 Each TRE class is limited to 15 people at Stillwaters 12 Supervision
  sessions are required for certification at an additional cost$150/session
  or $135/session when purchasing minimum of 5 sessions10% discount may be 
 applied if both modules paid in full by February 1st\, 2016 Certification
  Trainer (Level III) – Donna Phillips\, Exercise Physiologist\, Yoga The
 rapist\, TRE-CT\, E-RYT500\, NCBTMB Provider &amp\; Pilates Teacher CEU's
  available for massage therapists\, bodyworkers and yoga teachers Descrip
 tion: This is a new global initiative of TRE\, LLC launched October 2014. 
 Those certified will be called “Certified TRE Providers” and will have
  the competency needed to teach both individuals and groups. The training 
 introduces the anatomy\, neurology and physiology of stress and trauma as 
 it relates to the body\, TRE and the Self-Induced Therapeutic Tremor (SITT
 ) process. Certification Training competency will include: Ability to tea
 ch TREContainment and grounding skills and strategyIntervention &amp\; ene
 rgizing strategiesAbility to provide self regulation guidance
CATEGORIES:Certification Trainings
LOCATION:Stillwaters Retreat\, 5902 Stoneleigh Pl\, Greensboro\, North Caro
 lina\, 27455\, United States
GEO:36.1673191;-79.80818010000002
X-APPLE-STRUCTURED-LOCATION;VALUE=URI;X-ADDRESS=5902 Stoneleigh Pl\, Greens
 boro\, North Carolina\, 27455\, United States;X-APPLE-RADIUS=100;X-TITLE=S
 tillwaters Retreat:geo:36.1673191,-79.80818010000002
END:VEVENT
BEGIN:VTIMEZONE
TZID:America/Los_Angeles
X-LIC-LOCATION:America/Los_Angeles
BEGIN:DAYLIGHT
DTSTART:20160313T030000
TZOFFSETFROM:-0800
TZOFFSETTO:-0700
TZNAME:PDT
END:DAYLIGHT
END:VTIMEZONE
END:VCALENDAR