BEGIN:VCALENDAR
VERSION:2.0
PRODID:-//wp-events-plugin.com//7.2.3.1//EN
TZID:America/Los_Angeles
X-WR-TIMEZONE:America/Los_Angeles
BEGIN:VEVENT
UID:1468@treglobal.org
DTSTART;TZID=America/Los_Angeles:20160520T090000
DTEND;TZID=America/Los_Angeles:20160522T170000
DTSTAMP:20160111T200247Z
URL:https://treglobal.org/event/greensboro-north-carolina-tre-advanced-tra
 ining-non-touch-intervention-tre-providers-only/
SUMMARY:Greensboro\, North Carolina TRE Advanced Training - Non Touch Inter
 vention (TRE Providers only)
DESCRIPTION:TRE Advanced TrainingLearning Non-Touch Intervention Props\, S
 tops &amp\; Modifications – Integrating &amp\; Self-Regulating TRE Many
  TRE Providers are not certified or licensed to touch bodies\, also many i
 ndividuals participating in TRE do NOT want to be touched.This advanced tr
 aining will show the TRE provider: How to teach intervention without touc
 hing\,How to use props for self-regulation\, and How to modify each TRE e
 xercise for diversified bodies In TRE\, all providers have learned how to
  follow the human organism\, both in their own body and with that same tre
 mor mechanism in others. The integration of props with TRE is a fabulous t
 ool. Props should not take away from the body’s tremor response but has 
 the ability to aid and enhance the TRE practice by:Assisting the body with
 out touchAssisting those that need support or modificationsOpen areas of t
 he body that are stuck or blocked\, by moving energyTeach clients to be gr
 oundedChallenge those that are stronger &amp\; more athleticTeach &amp\; p
 romote self-regulationAdd a level of fun with wellness Bringing in props 
 can promote a continuation of health &amp\; wellness with your clients &am
 p\; their lifestyle\, adding variation &amp\; fun! The training consist o
 f lecture and 2 practical sessions per dayCEU’s will be offered3 day Adv
 anced Training Workshop: $495*May 20-22\, 2016    Friday - Sunday 9am - 
 5pm*handout included and all props provided for the training Minimum of 8
  people\, maximum of 15 people at StillwatersAdditional cost for those wan
 ting to purchase props or educational materials Certification Trainer: Do
 nna PhillipsExercise Physiologist\, Yoga Therapist\, TRE CT\, E-RYT500\, N
 CBTMB Provider\, Pilates Teacher Stillwaters Retreat5902 Stoneleigh PlGre
 ensboro\, North Carolina\, 27455 336-286-8489www.stillwaters-retreat.com
CATEGORIES:Intro Workshops / Recurring Classes / Online Events
LOCATION:Stillwaters Retreat\, 5902 Stoneleigh Pl\, Greensboro\, North Caro
 lina\, 27455\, United States
GEO:36.1673191;-79.80818010000002
X-APPLE-STRUCTURED-LOCATION;VALUE=URI;X-ADDRESS=5902 Stoneleigh Pl\, Greens
 boro\, North Carolina\, 27455\, United States;X-APPLE-RADIUS=100;X-TITLE=S
 tillwaters Retreat:geo:36.1673191,-79.80818010000002
END:VEVENT
BEGIN:VTIMEZONE
TZID:America/Los_Angeles
X-LIC-LOCATION:America/Los_Angeles
BEGIN:DAYLIGHT
DTSTART:20160313T030000
TZOFFSETFROM:-0800
TZOFFSETTO:-0700
TZNAME:PDT
END:DAYLIGHT
END:VTIMEZONE
END:VCALENDAR