BEGIN:VCALENDAR
VERSION:2.0
PRODID:-//wp-events-plugin.com//7.2.3.1//EN
TZID:America/Los_Angeles
X-WR-TIMEZONE:America/Los_Angeles
BEGIN:VEVENT
UID:6004@treglobal.org
DTSTART;TZID=Europe/Rome:20240223T153000
DTEND;TZID=Europe/Rome:20240225T173000
DTSTAMP:20240213T083952Z
URL:https://treglobal.org/event/formazione-operatori-metodo-tre-italia-mod
 ulo-in-italiano-milano-italia/
SUMMARY:Formazione Operatori Metodo TRE™ Italia - Modulo (in italiano)  
 – Milano\, Italia
DESCRIPTION:Modulo del Programma di Certificazione Operatori del Metodo TRE
 ™ Italia\nRequisiti di ammissione: https://metodotreitalia.com/requisiti
 -di-ammissione/\n\nContatti: https://metodotreitalia.com/contatti/\n\nLink
 : https://metodotreitalia.com/\n\n&nbsp\;
ATTACH;FMTTYPE=image/jpeg:https://treglobal.org/wp-content/uploads/2024/02
 /GEMS-scuola-metodo-TRE-logo-for-ws-300x129-1.png
CATEGORIES:Certification Trainings
LOCATION:Biomindful\, Via Garofalo 10\, Milano\, Italy
X-APPLE-STRUCTURED-LOCATION;VALUE=URI;X-ADDRESS=Via Garofalo 10\, Milano\, 
 Italy;X-APPLE-RADIUS=100;X-TITLE=Biomindful:geo:0,0
END:VEVENT
BEGIN:VTIMEZONE
TZID:Europe/Rome
X-LIC-LOCATION:Europe/Rome
BEGIN:STANDARD
DTSTART:20231029T020000
TZOFFSETFROM:+0200
TZOFFSETTO:+0100
TZNAME:CET
END:STANDARD
END:VTIMEZONE
END:VCALENDAR