BEGIN:VCALENDAR
VERSION:2.0
PRODID:-//wp-events-plugin.com//7.2.3.1//EN
TZID:America/Los_Angeles
X-WR-TIMEZONE:America/Los_Angeles
BEGIN:VEVENT
UID:6103@treglobal.org
DTSTART;TZID=Europe/Rome:20241123T103000
DTEND;TZID=Europe/Rome:20241123T180000
DTSTAMP:20240911T072304Z
URL:https://treglobal.org/event/formazione-operatori-metodo-tre-italia-mod
 ulo-in-italiano-firenze-italia/
SUMMARY:Formazione Operatori Metodo TRE™ Italia - Modulo (in italiano)  
 – Firenze\, Italia
DESCRIPTION:Modulo del Programma di Formazione Metodo TRE™ Italia\nDATE: 
 23/11/2024 - 24/11/2024\n\nLa formazione degli operatori certificati TRE
 ™ è un percorso formativo a carattere prevalentemente esperienziale che
  si rivolge sia ai professionisti del settore sia ad un pubblico generale 
 anche senza formazione specifica. Ogni incontro prevede lezioni teoriche e
  esercitazioni pratiche a corpo libero. I corsi mirano a fornire le basi t
 eoriche\, ma soprattutto pratiche\, per applicare il metodo TRE™ sia a l
 ivello personale sia nella propria professione.\n\nRequisiti di ammissione
 : https://metodotreitalia.com/requisiti-di-ammissione/\n\nContatti: https:
 //metodotreitalia.com/contatti/\n\nLink: https://metodotreitalia.com/\n\n&
 nbsp\;
ATTACH;FMTTYPE=image/jpeg:https://treglobal.org/wp-content/uploads/2024/02
 /GEMS-scuola-metodo-TRE-logo-for-ws-300x129-1.png
CATEGORIES:Certification Trainings
LOCATION:Firenze\, Firenze\, Firenze\, Italy
X-APPLE-STRUCTURED-LOCATION;VALUE=URI;X-ADDRESS=Firenze\, Firenze\, Italy;X
 -APPLE-RADIUS=100;X-TITLE=Firenze:geo:0,0
END:VEVENT
BEGIN:VTIMEZONE
TZID:Europe/Rome
X-LIC-LOCATION:Europe/Rome
BEGIN:STANDARD
DTSTART:20241027T020000
TZOFFSETFROM:+0200
TZOFFSETTO:+0100
TZNAME:CET
END:STANDARD
END:VTIMEZONE
END:VCALENDAR