BEGIN:VCALENDAR
VERSION:2.0
PRODID:-//wp-events-plugin.com//7.2.3.1//EN
TZID:America/Los_Angeles
X-WR-TIMEZONE:America/Los_Angeles
BEGIN:VEVENT
UID:5863@treglobal.org
DTSTART;TZID=Europe/Rome:20231020T153000
DTEND;TZID=Europe/Rome:20231022T173000
DTSTAMP:20230518T083905Z
URL:https://treglobal.org/event/formazione-operatori-metodo-tre-italia-mod
 ulo-2-in-italiano-milano-italia/
SUMMARY:Formazione Operatori Metodo TRE™ Italia - Modulo 1 (in italiano) 
  – Milano\, Italia
DESCRIPTION:Modulo 1: Programma di Certificazione Operatori del Metodo TRE
 ™ Italia\nRequisiti di ammissione: https://metodotreitalia.com/requisiti
 -di-ammissione/\n\nContatti: https://metodotreitalia.com/contatti/\n\nLink
 : https://metodotreitalia.com/
ATTACH;FMTTYPE=image/jpeg:https://treglobal.org/wp-content/uploads/2023/01
 /GEMS-scuola-metodo-TRE-logo-for-ws-300x129-1.png
CATEGORIES:Certification Trainings
LOCATION:Biomindful\, Via Garofalo 10\, Milano\, Italy
X-APPLE-STRUCTURED-LOCATION;VALUE=URI;X-ADDRESS=Via Garofalo 10\, Milano\, 
 Italy;X-APPLE-RADIUS=100;X-TITLE=Biomindful:geo:0,0
END:VEVENT
BEGIN:VTIMEZONE
TZID:Europe/Rome
X-LIC-LOCATION:Europe/Rome
BEGIN:DAYLIGHT
DTSTART:20230326T030000
TZOFFSETFROM:+0100
TZOFFSETTO:+0200
TZNAME:CEST
END:DAYLIGHT
END:VTIMEZONE
END:VCALENDAR