BEGIN:VCALENDAR
VERSION:2.0
PRODID:-//wp-events-plugin.com//7.2.3.1//EN
TZID:America/Los_Angeles
X-WR-TIMEZONE:America/Los_Angeles
BEGIN:VEVENT
UID:6599@treglobal.org
DTSTART:20260509T090000Z
DTEND:20260509T133000Z
DTSTAMP:20260415T103049Z
URL:https://treglobal.org/event/forest-flow-release/
SUMMARY:Forest Flow &amp\; Release
DESCRIPTION:A full day to reset the nervous system in the nurturing space o
 f the mountain forest yurt.\n\nMove from survive to thrive with the practi
 ces of TRE and Somatic movement.\n\nEnjoy the stunning scenery on our walk
  up and the grounding space of the forest yurt for a fully embodied day of
  guided self regulation.
ATTACH;FMTTYPE=image/jpeg:https://treglobal.org/wp-content/uploads/2026/04
 /Lake-District-Yoga-Cover-Photo-FB.jpeg
CATEGORIES:Intro Workshops / Recurring Classes / Online Events
LOCATION:Lake District\, Swan Intake Forest\, Grasmere\, Cumbria \, LA22 9R
 F\, United Kingdom
X-APPLE-STRUCTURED-LOCATION;VALUE=URI;X-ADDRESS=Swan Intake Forest\, Grasme
 re\, Cumbria \, LA22 9RF\, United Kingdom;X-APPLE-RADIUS=100;X-TITLE=Lake 
 District:geo:0,0
END:VEVENT
END:VCALENDAR