BEGIN:VCALENDAR
VERSION:2.0
PRODID:-//wp-events-plugin.com//7.2.3.1//EN
TZID:America/Los_Angeles
X-WR-TIMEZONE:America/Los_Angeles
BEGIN:VEVENT
UID:5909@treglobal.org
DTSTART;TZID=Europe/London:20241026T100000
DTEND;TZID=Europe/London:20241027T180000
DTSTAMP:20240716T175638Z
URL:https://treglobal.org/event/following-the-body-touch-in-tre/
SUMMARY:Following The Body &amp\; Touch in TRE
DESCRIPTION:This weekend training is practical and develops confidence and 
 understanding of how to observe the movements and restrictions in the body
  and explores when and how to support clients in connecting deeper with th
 eir body using touch.\n\nThe day will explore the following through demons
 tration\, practical sessions in pairs and discussion:\n\n- Negotiating rel
 ational space and the use of presence\n- Negotiating touch\n- How to touch
 \n- Dosing\n- Key touch interventions\n- Considerations on when to use tou
 ch\n\nTakeaways include enhanced relational attunement\, confidence in exp
 loring allowing versus interpretation &amp\; intervention\, when to use to
 uch in sessions within a framework of regulation and relationship\, confid
 ence in ‘holding bodies’ when using touch and a deepening of personal 
 process.\n\nSaturday 26th &amp\; Sunday 27th October 2024 10am - 6pm\nThe 
 Purple Turtle\, Central Brighton\n\n£230 Eary Bird/£265 after 31st Augus
 t\n\nPlease note that refunds are not available.
CATEGORIES:TRE® Continuing Education / Specialty Training
LOCATION:The Purple Turtle\,  1st Floor\, Old Slipper Baths\, Barrack Yard\
 , North Rd\, Brighton\, East Sussex\, BN1 1YA\, United Kingdom
X-APPLE-STRUCTURED-LOCATION;VALUE=URI;X-ADDRESS= 1st Floor\, Old Slipper Ba
 ths\, Barrack Yard\, North Rd\, Brighton\, East Sussex\, BN1 1YA\, United 
 Kingdom;X-APPLE-RADIUS=100;X-TITLE=The Purple Turtle:geo:0,0
END:VEVENT
BEGIN:VTIMEZONE
TZID:Europe/London
X-LIC-LOCATION:Europe/London
BEGIN:DAYLIGHT
DTSTART:20240331T020000
TZOFFSETFROM:+0000
TZOFFSETTO:+0100
TZNAME:BST
END:DAYLIGHT
BEGIN:STANDARD
DTSTART:20241027T010000
TZOFFSETFROM:+0100
TZOFFSETTO:+0000
TZNAME:GMT
END:STANDARD
END:VTIMEZONE
END:VCALENDAR