BEGIN:VCALENDAR
VERSION:2.0
PRODID:-//wp-events-plugin.com//7.2.3.1//EN
TZID:America/Los_Angeles
X-WR-TIMEZONE:America/Los_Angeles
BEGIN:VEVENT
UID:5847@treglobal.org
DTSTART;TZID=America/Los_Angeles:20230504T200000
DTEND;TZID=America/Los_Angeles:20230504T213000
DTSTAMP:20230427T044630Z
URL:https://treglobal.org/event/fluid-feminine-movement-tre-at-the-dragon-
 the-rose-santa-ana-california/
SUMMARY:Fluid Feminine Movement + TRE Class: at The Dragon &amp\; The Rose\
 , Santa Ana\, California
DESCRIPTION:A Collaboration between Dr Lin Ho Certified Master S Factor Ins
 tructor and Sai Danchuk Certified in TRE\, Emotional Tour and Reiki.\n\nBr
 inging you a Feminine Based Exercise to reconnect with your inner spirit w
 hile you stretch and fatigue TRE targeted muscles to engage in Neurogenic 
 Tremors.\n\nIt's a series of embodied movements encouraging you to build d
 eeper body trust and connect with your inner spirit\, as you stretch and f
 atigue the targeted muscles needed to engage Neurogenic Tremors.\n\nTo Boo
 k visit:\nhttps://www.eventbrite.com/e/611476441497\n\nIf you have further
  questions or inquiries about the session\, please call 1-206-271-5790\n\n
 Your Investment:\nEarly Bird: $49 (Book 5days ahead)\nYour Spot: $55\nEarl
 y Birds (Bring a Friend): $45/each\n\nVisit to book:\nhttps://www.eventbri
 te.com/e/612506311867\n\nIf you'd prefer other forms of payment you can us
 e:\nVenmo: @Sai-Danchuk\nCashApp: $SolutionsAmI\nZelle/PayPal: sbjsun@gmai
 l.com\nCash - RSVP required to ensure there's spots available
ATTACH;FMTTYPE=image/jpeg:https://treglobal.org/wp-content/uploads/2023/04
 /Linme.jpeg
CATEGORIES:Intro Workshops / Recurring Classes / Online Events
LOCATION:The Dragon and The Rose\, 2424 N Grand Ave Suite K\,\, Santa Ana\,
  California\, 92705\, Orange County California\, United States
X-APPLE-STRUCTURED-LOCATION;VALUE=URI;X-ADDRESS=2424 N Grand Ave Suite K\,\
 , Santa Ana\, California\, 92705\, Orange County California\, United State
 s;X-APPLE-RADIUS=100;X-TITLE=The Dragon and The Rose:geo:0,0
END:VEVENT
BEGIN:VTIMEZONE
TZID:America/Los_Angeles
X-LIC-LOCATION:America/Los_Angeles
BEGIN:DAYLIGHT
DTSTART:20230312T030000
TZOFFSETFROM:-0800
TZOFFSETTO:-0700
TZNAME:PDT
END:DAYLIGHT
END:VTIMEZONE
END:VCALENDAR