BEGIN:VCALENDAR
VERSION:2.0
PRODID:-//wp-events-plugin.com//7.2.3.1//EN
TZID:America/Los_Angeles
X-WR-TIMEZONE:America/Los_Angeles
BEGIN:VEVENT
UID:5810@treglobal.org
DTSTART;TZID=Europe/Rome:20230311T180000
DTEND;TZID=Europe/Rome:20230617T203000
DTSTAMP:20230307T112810Z
URL:https://treglobal.org/event/explore-and-embody-8-developmental-stages-
 with-tre-workshop-series-with-cheda-mikic-tre-centre/
SUMMARY:Explore and embody 8 developmental stages with TRE - Workshop Serie
 s with Cheda Mikic\, TRE Centre
DESCRIPTION:In this new and exciting fortnightly class\, Cheda will be guid
 ing us through 8 developmental stages. It comes in response to the call fo
 r a\ndeep\, active exploration.\n\nWe will be enquiring into Erik Erikson
 ’s psychosocial theory and building upon it with our personal and emotio
 nal content. We will then begin to allow for somatic integration of the pa
 rts of ourselves which have not been acknowledged or completed through eac
 h stage.\n\nWe’ll be using TRE™ and other somatic practices to expand 
 our awareness of our body and of our deeper patterns. This series will be 
 a deep but playful path of self-discovery and self-acceptance.\n\nThis is 
 a series of 8 online sessions via zoom running fortnightly over 14 weeks\,
  from Saturday 11th March till Saturday 17th June 2023.  The time of the 
 sessions will be at 6pm CET or 12noon EST time.  Each class/workshop will
  last around 2.5 hours.\n\nThe workshops/classes will consist of initial s
 haring\, teaching segment\, somatic work and feedback.  After each worksh
 op the recordings of teaching and files with theoretical content will be s
 end to all the participants for further reflection and practice.\n\nIf par
 ticipants can’t make one or two classes during the course\, they will re
 ceive the material so they can fully benefit from the course.\nWe are comm
 itting to a deep inner exploration in a closed group.\n\nDates:\nMarch 11\
 , 25\nApril 8\, 22\nMay 6\, 20\nJune 3\, 17\n\ncontact@trecentre.com for i
 nfo and booking.
CATEGORIES:TRE® Continuing Education / Specialty Training
LOCATION:https://www.trecentre.com/calendar/explore-and-embody-8-developmen
 tal-stages-with-tre
END:VEVENT
BEGIN:VTIMEZONE
TZID:Europe/Rome
X-LIC-LOCATION:Europe/Rome
BEGIN:STANDARD
DTSTART:20221030T020000
TZOFFSETFROM:+0200
TZOFFSETTO:+0100
TZNAME:CET
END:STANDARD
BEGIN:DAYLIGHT
DTSTART:20230326T030000
TZOFFSETFROM:+0100
TZOFFSETTO:+0200
TZNAME:CEST
END:DAYLIGHT
END:VTIMEZONE
END:VCALENDAR