BEGIN:VCALENDAR
VERSION:2.0
PRODID:-//wp-events-plugin.com//7.2.3.1//EN
TZID:America/Los_Angeles
X-WR-TIMEZONE:America/Los_Angeles
BEGIN:VEVENT
UID:5927@treglobal.org
DTSTART;TZID=America/Los_Angeles:20231014T080000
DTEND;TZID=America/Los_Angeles:20231016T140000
DTSTAMP:20230907T030238Z
URL:https://treglobal.org/event/enhancing-tre-integration-within-self-and-
 community/
SUMMARY:Enhancing TRE: Integration within - Self and Community
DESCRIPTION:Check out the link for all the information for this incredible 
 3 day online event created by the Canadian TRE training team to bring TRE 
 providers and trainers together around the theme of Integration.  Event w
 ill featuring TRE trainers: Joan McDonald\, Mariano Pedroza\, Sarah Ronhov
 de\, Carolyn Hapgood (Trainer Trainee)\, Wendy Morley\,  Sara Clark and T
 RE founder David Berceli.\n\n&nbsp\;\n\nAll certified TRE providers and tr
 ainers welcome!\n\n&nbsp\;
CATEGORIES:TRE® Continuing Education / Specialty Training
LOCATION:https://www.communitre.com/enhancing-tre-oct2023
END:VEVENT
BEGIN:VTIMEZONE
TZID:America/Los_Angeles
X-LIC-LOCATION:America/Los_Angeles
BEGIN:DAYLIGHT
DTSTART:20230312T030000
TZOFFSETFROM:-0800
TZOFFSETTO:-0700
TZNAME:PDT
END:DAYLIGHT
END:VTIMEZONE
END:VCALENDAR